BEGIN:VCALENDAR
VERSION:2.0
PRODID:-//ROCKIN&#039; ROOTS EVENTS - ECPv6.15.20//NONSGML v1.0//EN
CALSCALE:GREGORIAN
METHOD:PUBLISH
X-ORIGINAL-URL:https://rockinrootsevents.co.uk
X-WR-CALDESC:Events for ROCKIN&#039; ROOTS EVENTS
REFRESH-INTERVAL;VALUE=DURATION:PT1H
X-Robots-Tag:noindex
X-PUBLISHED-TTL:PT1H
BEGIN:VTIMEZONE
TZID:UTC
BEGIN:STANDARD
TZOFFSETFROM:+0000
TZOFFSETTO:+0000
TZNAME:UTC
DTSTART:20240101T000000
END:STANDARD
END:VTIMEZONE
BEGIN:VEVENT
DTSTART;TZID=UTC:20251109T190000
DTEND;TZID=UTC:20251109T223000
DTSTAMP:20260426T001556
CREATED:20250614T175427Z
LAST-MODIFIED:20250916T121243Z
UID:102-1762714800-1762727400@rockinrootsevents.co.uk
SUMMARY:MARTIN HARLEY
DESCRIPTION:BUY TICKETS\n\n\n\n\n\n \nMARTIN HARLEY\nDescribed as “One of the UK’s finest contemporary roots musicians” in Guitarist Magazine\, Martin Harley releases his highly anticipated album Morning Sun this year. Harley has been captivating audiences around the globe for three decades; recording albums in Texas\, Nashville\, and the Wild West of Wales. \nHis songwriting encompasses an expressive\, lyrical slide guitar style that The Guardian referred to as “spellbinding”. Roots Magazine agrees that he is “A slide guitar master” . Never has Harley been more comfortable in his shoes\, “A musician at the top of his game” Maverick Magazine. \nHis solo shows are intimate and engaging. No two are ever the same. \n \n \n \n\n“Harley has it all – voice\, guitar artistry and the songs” Total Music \n\n\n“No doubt that he is a slide guitar master. He is the business” Roots Magazine \n\n\n“Quite simply a great live act” Time Out London \n\n\n“Harley is the master of the bottleneck slide guitar” ***** Black Deer festival \n \n\n\n\n\n\n\n\n\n\n\nCLICK HERE FOR MORE SHOWS FROM ROCKIN’ ROOTS EVENTS
URL:https://rockinrootsevents.co.uk/event/martin-harley/
LOCATION:BROMLEY BLUES CLUB\, BROMLEY LITTLE THEATRE\, NORTH STREET\, BROMLEY\, LONDON\, BR1 1SB\, United Kingdom
CATEGORIES:BROMLEY,BROMLEY BLUES CLUB,BROMLEY LITTLE THEATRE,LONDON
ATTACH;FMTTYPE=image/jpeg:https://rockinrootsevents.co.uk/wp-content/uploads/2025/06/MARTIN-HARLEY-BROMLEY-scaled.jpg
END:VEVENT
END:VCALENDAR