BEGIN:VCALENDAR
VERSION:2.0
PRODID:-//ROCKIN&#039; ROOTS EVENTS - ECPv6.15.20//NONSGML v1.0//EN
CALSCALE:GREGORIAN
METHOD:PUBLISH
X-WR-CALNAME:ROCKIN&#039; ROOTS EVENTS
X-ORIGINAL-URL:https://rockinrootsevents.co.uk
X-WR-CALDESC:Events for ROCKIN&#039; ROOTS EVENTS
REFRESH-INTERVAL;VALUE=DURATION:PT1H
X-Robots-Tag:noindex
X-PUBLISHED-TTL:PT1H
BEGIN:VTIMEZONE
TZID:UTC
BEGIN:STANDARD
TZOFFSETFROM:+0000
TZOFFSETTO:+0000
TZNAME:UTC
DTSTART:20250101T000000
END:STANDARD
END:VTIMEZONE
BEGIN:VEVENT
DTSTART;TZID=UTC:20260430T190000
DTEND;TZID=UTC:20260430T223000
DTSTAMP:20260425T041640
CREATED:20250717T134159Z
LAST-MODIFIED:20260403T140738Z
UID:532-1777575600-1777588200@rockinrootsevents.co.uk
SUMMARY:DANNY BRYANT LIVE IN FAVERSHAM
DESCRIPTION:DANNY BRYANT | THE NOTHING LEFT BEHIND TOUR ! 🎸\n\n\n\nGet ready\, Faversham! The phenomenal blues-rock guitarist Danny Bryant is set to ignite The Old Brewery Store on Thursday\, 30th April 2026. Prepare for an electrifying evening as one of the UK’s most celebrated blues artists delivers his signature blend of soulful vocals and blistering guitar solos. Some albums are just collections of songs\, but his newest release\, Nothing Left Behind\, is something bigger. Hailed as his best work to date\, it’s raw\, personal\, and utterly fearless. \n\n\n\nDON’T WAIT: He’s bringing the whole thing — full band\, full power — to an intimate standing room that holds just 250 people. With a loyal global fanbase built over two decades of relentless touring\, tickets are sure to fly for this highly anticipated event! \n\n\n\n\nGET TICKETS\n\n\n\n\n\n\n\n\nDATE\n\n\n\nTHURSDAY 30TH APRIL 2026 \n\n\n\n\n\n\n\n\nDOORS\n\n\n\n7PM \n\n\n\n\n\n\n\nVENUE\n\n\n\nTHE OLD BREWERY STORE \n\n\n\n\n\n\n\nTICKETS\n\n\n\nFROM £20 \n\n\n\n\n\n\n\n\n\nhttps://youtu.be/Q9egnMFscss?si=rp_FWeBP9kZ9nAuI\n\n\n\n\n\nhttps://youtu.be/DJQWyEXzc40?si=ZsA-R-e77lxLwqLT\n\n\n\n\n\n\n\nhttps://open.spotify.com/artist/0y5sFo3j8Mo01UVEfqeuqn?si=Dgr75frEQ-igUSMiWexWpg\n\n\n\n\n\nhttps://youtu.be/sl39HHyLTXk?si=6pvUQ_hpErlDY-Y5\n\n\n\n\n\n\n\n  \n\n\n\n\n\n\n\n\nDANNY BRYANT\n\n\n\nOne of Britain’s most celebrated blues-rock guitarists\, a band firing on all cylinders\, and music that actually means something. This is a true blues-rock giant you do not want to miss !!!! \n\n\n\n\n“A fantastic guitar player\, able to take a Stratocaster and really make it sing” – Joe Bonamassa\n\n\n\n“One of the best ever” – Walter Trout\n\n\n\n“An amazing guitarist” – Eric Gales\n\n\n\n“A national Blues treasure” – Classic Rock Magazine\n\n\n\n“One of the strongest statements in his career” – The Blues Magazine\n\n\n\n“Wider\, bolder and more alive than anything he’s done before” – Maximum Volume Music\n\n\n\n\n  \n\n\n\nSECURE YOUR TICKETS WHILE YOU CAN\n\n\n\n\n\n\n📅 Date: Thursday 30th April 2026\n\n\n\n🕖 Doors: 7 PM\n\n\n\n📍 Venue: The Old Brewery Store\, Faversham\n\n\n\n🎫 Tickets: From £20 Advance (Selling Fast)\n\n\n\n\n\n🎫 SECURE YOUR TICKETS
URL:https://rockinrootsevents.co.uk/event/danny-bryant/
LOCATION:KENT
CATEGORIES:BLUES,BLUES ROCK,FAVERSHAM,THE OLD BREWERY STORE
ATTACH;FMTTYPE=image/webp:https://rockinrootsevents.co.uk/wp-content/uploads/2025/07/DANNY-BRYANT-A4.webp
END:VEVENT
END:VCALENDAR