BEGIN:VCALENDAR
VERSION:2.0
PRODID:-//ROCKIN&#039; ROOTS EVENTS - ECPv6.15.20//NONSGML v1.0//EN
CALSCALE:GREGORIAN
METHOD:PUBLISH
X-ORIGINAL-URL:https://rockinrootsevents.co.uk
X-WR-CALDESC:Events for ROCKIN&#039; ROOTS EVENTS
REFRESH-INTERVAL;VALUE=DURATION:PT1H
X-Robots-Tag:noindex
X-PUBLISHED-TTL:PT1H
BEGIN:VTIMEZONE
TZID:Europe/Paris
BEGIN:DAYLIGHT
TZOFFSETFROM:+0100
TZOFFSETTO:+0200
TZNAME:CEST
DTSTART:20250330T010000
END:DAYLIGHT
BEGIN:STANDARD
TZOFFSETFROM:+0200
TZOFFSETTO:+0100
TZNAME:CET
DTSTART:20251026T010000
END:STANDARD
BEGIN:DAYLIGHT
TZOFFSETFROM:+0100
TZOFFSETTO:+0200
TZNAME:CEST
DTSTART:20260329T010000
END:DAYLIGHT
BEGIN:STANDARD
TZOFFSETFROM:+0200
TZOFFSETTO:+0100
TZNAME:CET
DTSTART:20261025T010000
END:STANDARD
BEGIN:DAYLIGHT
TZOFFSETFROM:+0100
TZOFFSETTO:+0200
TZNAME:CEST
DTSTART:20270328T010000
END:DAYLIGHT
BEGIN:STANDARD
TZOFFSETFROM:+0200
TZOFFSETTO:+0100
TZNAME:CET
DTSTART:20271031T010000
END:STANDARD
END:VTIMEZONE
BEGIN:VEVENT
DTSTART;TZID=Europe/Paris:20260925T191500
DTEND;TZID=Europe/Paris:20260925T221500
DTSTAMP:20260421T132424
CREATED:20260323T164645Z
LAST-MODIFIED:20260417T141203Z
UID:2214-1790363700-1790374500@rockinrootsevents.co.uk
SUMMARY:THE ALEX HAMILTON BAND LIVE AT THE OAST\, RAINHAM\, KENT
DESCRIPTION:ALEX HAMILTON BAND\nLIVE AT THE OAST\, RAINHAM\, KENT\nFRIDAY 25TH SEPTEMBER\n  \n25TH SEPTEMBER 2026\n  \nDOORS 7PM\n  \nTHE OAST\, RAINHAM\, KENT\n  \nFROM £20\nDays Hours Minutes Seconds \nBUY TICKETS \nAlex Hamilton Band is coming to Rainham\, Kent — and if you care about blues-rock guitar played at the very highest level\, this is the Friday night you need. On Friday 25th September 2026\, Rockin’ Roots Events brings this Scottish award-winning power trio to The Oast for one of the most intimate shows on their autumn tour. Live music in Rainham\, Kent does not get much better than this. \nAlex Hamilton Band — Scottish Blues-Rock at Its Finest\nAlex Hamilton has been one of the most quietly compelling figures on the British blues-rock circuit for over a decade. Born in Scotland and raised on the music of Robben Ford\, Matt Scofield\, and the great American blues tradition\, he developed a guitar technique that is immediately distinctive — tasteful\, subtle\, deeply soulful\, and technically extraordinary. His debut album\, released when he was just eighteen\, won the Scottish New Music Award in 2011. His subsequent albums have all been nominated for the British Blues Awards\, several years running. He has toured dozens of venues across Britain and extensively across Europe\, regularly selling out theatres and music clubs\, and has shared stages with Carl Verheyen\, Robert Cray\, Aynsley Lister\, Henrik Freischlader\, and King King. Over 700 shows. Multiple award nominations. A guitarist that other guitarists talk about. \nA Power Trio Built for the Stage\nThe Alex Hamilton Band is Alex on guitar and vocals\, his father Nick Hamilton on bass\, and Ian Beestin on drums — a trio that has been road-tested across hundreds of venues and built into something genuinely formidable. There is a chemistry here that only comes from years of playing together\, and a live energy that has been winning audiences from Yorkshire to the Netherlands and back again. The Oast’s intimate top room is exactly the right setting to hear what this band can do — close enough to feel every note\, small enough that nothing is lost. \nCareer Highlights\n★ Scottish New Music Award — Won at age eighteen for his debut album in 2011 \n★ Scottish Jazz/Blues Album of the Year — Award-winning recognition from the Scottish music community \n★ British Blues Awards — Multiple nominations across several years running \n★ 700+ Shows — Across Britain and Europe\, regularly selling out theatres and music clubs \n★ Shared Stages With — Robert Cray\, Carl Verheyen\, Aynsley Lister\, Henrik Freischlader\, King King \n★ That Pedal Show Endorsed — Featured and praised by Daniel Steinhardt of the world’s most-watched guitar show \n★ Continuous Radio Play — Across the UK and internationally \n★ Robben Ford & Matt Scofield Comparisons — The technical company his playing keeps \nWhat the Press & Fellow Artists Say\n★ “Alex has that musical quality in his playing that can’t be taught. He exudes soul. I’m a big fan” — Daniel Steinhardt\, That Pedal Show \n★ “A tasteful and subtle guitar technique compared to Robben Ford and Matt Scofield” — Blues press \n★ “Multiple award-winning albums\, a strong fanbase\, and continuous radio play across the world — Alex Hamilton’s music is starting to be heard” — Official biography \nAn Evening Not to Be Missed\nWhen Daniel Steinhardt of That Pedal Show — a man who has played and reviewed more guitars than almost anyone on the planet — says someone exudes soul and calls himself a big fan\, you pay attention. Alex Hamilton has been quietly building one of the most respected reputations on the British blues-rock circuit for over a decade\, and The Oast on a Friday night in September is exactly the kind of room where a guitarist of this calibre can really let the music breathe. \nIntimate. Focused. Limited capacity. Blues guitar Rainham Kent at its very best. Friday 25th September — get your tickets before they go. \n \nThe Oast\, Rainham Kent — A Venue With a Story\nThe Oast is one of Rainham’s most iconic buildings — constructed in the early 1870s by the Wakeley Brothers\, it has overlooked Rainham station for over a century. Originally built for drying hops\, it was saved from sale in the 1970s and converted into a thriving community centre run entirely by volunteers. That history gives the place a character that purpose-built venues simply can’t manufacture — exposed brickwork\, a sense of occasion\, and the kind of intimate atmosphere that puts you right in the room with the music. The venue sits directly adjacent to Rainham Station with parking at the rear — easy to get to\, easy to get home from. This event will be held in the top room of The Oast\, Rainham\, Kent. \n \nSECURE YOUR TICKETS NOW \nPlease view our full ROCKIN’ ROOTS EVENTS for more exciting live music
URL:https://rockinrootsevents.co.uk/event/alex-hamilton-band-the-oast-rainham/
LOCATION:THE OAST\, RAINHAM\, The Oast Rainham\, Granary Close\, Rainham\,\, illingham\, KENT\, ME8 7SG\, United Kingdom
CATEGORIES:BLUES,BLUES ROCK,KENT,KENT LIVE MUSIC,LIVE MUSIC,RAINHAM,THE OAST
ATTACH;FMTTYPE=image/jpeg:https://rockinrootsevents.co.uk/wp-content/uploads/2026/04/THE-ALEX-HAMILTON-BAND-LIVE-AT-THE-OAST-RAINHAM-2026.jpg
END:VEVENT
END:VCALENDAR