BEGIN:VCALENDAR
VERSION:2.0
PRODID:-//ROCKIN&#039; ROOTS EVENTS - ECPv6.15.20//NONSGML v1.0//EN
CALSCALE:GREGORIAN
METHOD:PUBLISH
X-WR-CALNAME:ROCKIN&#039; ROOTS EVENTS
X-ORIGINAL-URL:https://rockinrootsevents.co.uk
X-WR-CALDESC:Events for ROCKIN&#039; ROOTS EVENTS
REFRESH-INTERVAL;VALUE=DURATION:PT1H
X-Robots-Tag:noindex
X-PUBLISHED-TTL:PT1H
BEGIN:VTIMEZONE
TZID:Europe/Paris
BEGIN:DAYLIGHT
TZOFFSETFROM:+0100
TZOFFSETTO:+0200
TZNAME:CEST
DTSTART:20250330T010000
END:DAYLIGHT
BEGIN:STANDARD
TZOFFSETFROM:+0200
TZOFFSETTO:+0100
TZNAME:CET
DTSTART:20251026T010000
END:STANDARD
BEGIN:DAYLIGHT
TZOFFSETFROM:+0100
TZOFFSETTO:+0200
TZNAME:CEST
DTSTART:20260329T010000
END:DAYLIGHT
BEGIN:STANDARD
TZOFFSETFROM:+0200
TZOFFSETTO:+0100
TZNAME:CET
DTSTART:20261025T010000
END:STANDARD
BEGIN:DAYLIGHT
TZOFFSETFROM:+0100
TZOFFSETTO:+0200
TZNAME:CEST
DTSTART:20270328T010000
END:DAYLIGHT
BEGIN:STANDARD
TZOFFSETFROM:+0200
TZOFFSETTO:+0100
TZNAME:CET
DTSTART:20271031T010000
END:STANDARD
END:VTIMEZONE
BEGIN:VEVENT
DTSTART;TZID=Europe/Paris:20261003T190000
DTEND;TZID=Europe/Paris:20261003T223000
DTSTAMP:20260423T143702
CREATED:20251129T121447Z
LAST-MODIFIED:20260410T143813Z
UID:1130-1791054000-1791066600@rockinrootsevents.co.uk
SUMMARY:CLASSIC ROCK REVIVAL LIVE IN FAVERSHAM
DESCRIPTION:CLASSIC ROCK REVIVAL 2026! 🎸\n\n\n\nAfter a string of electric performances\, Rockin’ Roots Events is bringing the ultimate stadium-rock experience to the heart of Faversham with CLASSIC ROCK REVIVAL. On Saturday\, 3rd October\, we are taking over the iconic Old Brewery Store\, Shepherd Neame\, for a night of pure\, roof-raising rock ‘n’ roll. This isn’t just a tribute—this is a high-octane\, no-holds-barred celebration of the greatest anthems ever written\, delivered by world-class musicians. \n\n\n\nDON’T WAIT: Our shows at the Brewery Store are known for their incredible atmosphere. With a setlist this massive\, tickets won’t last long. \n\n\n\n\nGET TICKETS\n\n\n\n\n\n\n\n\nDATE\n\n\n\nSATURDAY 3RD OCTOBER 2026 \n\n\n\n\n\n\n\n\nDOORS\n\n\n\n7PM \n\n\n\n\n\n\n\nVENUE\n\n\n\nTHE OLD BREWERY STORE \n\n\n\n\n\n\n\nTICKETS\n\n\n\nFROM £20 \n\n\n\n\n\n\n\n\n\nhttps://youtu.be/xBuGbs3a2us?si=WxDDp9Wmg82QDmoA\n\n\n\n\n\nhttps://youtu.be/sWTkMxi6Gso?si=XlkGkaTpg-O0FZmI\n\n\n\n\n\n\n\n  \n\n\n\n\n\n\n\n\nTHIS IS THE DEFINITIVE CLASSIC ROCK EXPERIENCE! 🎸\n\n\n\nWe’re bringing the massive production of a 70s arena tour to the unique atmosphere of The Old Brewery Store. This is a high-octane journey through the greatest riffs in history. Expect a wall of sound\, iconic visuals\, and a professional-grade performance that captures the raw energy of Queen\, AC/DC\, and Led Zeppelin at their absolute peak. \n\n\n\nExpect the “Real Deal” sound with massive hits from: \n\n\n\n\nLed Zeppelin & Queen\n\n\n\nAC/DC & ZZ Top\n\n\n\nFleetwood Mac & The Eagles\n\n\n\nLynyrd Skynyrd & Aerosmith\n\n\n\n…and many more!\n\n\n\n\n  \n\n\n\n“A superb show delivered by top-quality musicians!” This is the classic rock night of the year—a full-blown\, stadium-sized production in Britain’s most iconic brewery venue. \n\n\n\n\n\n\n\n\n📅 Date: Saturday 3rd October 2026\n\n\n\n🕖 Doors: 7PM\n\n\n\n📍 Venue: The Old Brewery Store\, Shepherd Neame\, Faversham\n\n\n\n🎫 Tickets: FROM £20\n\n\n\n\n\n🎫 SECURE YOUR TICKETS\n\n\n\n\n\n\n\n\n 
URL:https://rockinrootsevents.co.uk/event/classic-rock-revival/
LOCATION:THE OLD BREWERY STORE\, MILL PLACE\, FAVERSHAM\, KENT\, ME13 7DY\, United Kingdom
CATEGORIES:FAVERSHAM,KENT,KENT LIVE MUSIC,LIVE MUSIC,ROCK,THE OLD BREWERY STORE
ATTACH;FMTTYPE=image/webp:https://rockinrootsevents.co.uk/wp-content/uploads/2025/11/CRR-2026A4-2.webp
END:VEVENT
END:VCALENDAR