BEGIN:VCALENDAR
VERSION:2.0
PRODID:-//ROCKIN&#039; ROOTS EVENTS - ECPv6.15.20//NONSGML v1.0//EN
CALSCALE:GREGORIAN
METHOD:PUBLISH
X-WR-CALNAME:ROCKIN&#039; ROOTS EVENTS
X-ORIGINAL-URL:https://rockinrootsevents.co.uk
X-WR-CALDESC:Events for ROCKIN&#039; ROOTS EVENTS
REFRESH-INTERVAL;VALUE=DURATION:PT1H
X-Robots-Tag:noindex
X-PUBLISHED-TTL:PT1H
BEGIN:VTIMEZONE
TZID:Europe/Paris
BEGIN:DAYLIGHT
TZOFFSETFROM:+0100
TZOFFSETTO:+0200
TZNAME:CEST
DTSTART:20250330T010000
END:DAYLIGHT
BEGIN:STANDARD
TZOFFSETFROM:+0200
TZOFFSETTO:+0100
TZNAME:CET
DTSTART:20251026T010000
END:STANDARD
BEGIN:DAYLIGHT
TZOFFSETFROM:+0100
TZOFFSETTO:+0200
TZNAME:CEST
DTSTART:20260329T010000
END:DAYLIGHT
BEGIN:STANDARD
TZOFFSETFROM:+0200
TZOFFSETTO:+0100
TZNAME:CET
DTSTART:20261025T010000
END:STANDARD
BEGIN:DAYLIGHT
TZOFFSETFROM:+0100
TZOFFSETTO:+0200
TZNAME:CEST
DTSTART:20270328T010000
END:DAYLIGHT
BEGIN:STANDARD
TZOFFSETFROM:+0200
TZOFFSETTO:+0100
TZNAME:CET
DTSTART:20271031T010000
END:STANDARD
END:VTIMEZONE
BEGIN:VEVENT
DTSTART;TZID=Europe/Paris:20261125T190000
DTEND;TZID=Europe/Paris:20261125T223000
DTSTAMP:20260423T162105
CREATED:20260422T090150Z
LAST-MODIFIED:20260422T090150Z
UID:2813-1795633200-1795645800@rockinrootsevents.co.uk
SUMMARY:Cinema Stereo | Live at The Old Brewery Store
DESCRIPTION:
URL:https://rockinrootsevents.co.uk/event/cinema-stereo-live-at-the-old-brewery-store/
LOCATION:THE OLD BREWERY STORE\, MILL PLACE\, FAVERSHAM\, KENT\, ME13 7DY\, United Kingdom
CATEGORIES:FAVERSHAM,KENT,KENT LIVE MUSIC,LIVE MUSIC,ROCK,THE OLD BREWERY STORE
ATTACH;FMTTYPE=image/jpeg:https://rockinrootsevents.co.uk/wp-content/uploads/2026/04/CINEMA-STEREO-LIVE-AT-THE-OLD-BREWERY-STORE-FAVERSHAM-KENT-NOVEMBER-2026.jpg
END:VEVENT
END:VCALENDAR