BEGIN:VCALENDAR
VERSION:2.0
PRODID:-//ROCKIN&#039; ROOTS EVENTS - ECPv6.15.20//NONSGML v1.0//EN
CALSCALE:GREGORIAN
METHOD:PUBLISH
X-ORIGINAL-URL:https://rockinrootsevents.co.uk
X-WR-CALDESC:Events for ROCKIN&#039; ROOTS EVENTS
REFRESH-INTERVAL;VALUE=DURATION:PT1H
X-Robots-Tag:noindex
X-PUBLISHED-TTL:PT1H
BEGIN:VTIMEZONE
TZID:Europe/Paris
BEGIN:DAYLIGHT
TZOFFSETFROM:+0100
TZOFFSETTO:+0200
TZNAME:CEST
DTSTART:20240331T010000
END:DAYLIGHT
BEGIN:STANDARD
TZOFFSETFROM:+0200
TZOFFSETTO:+0100
TZNAME:CET
DTSTART:20241027T010000
END:STANDARD
BEGIN:DAYLIGHT
TZOFFSETFROM:+0100
TZOFFSETTO:+0200
TZNAME:CEST
DTSTART:20250330T010000
END:DAYLIGHT
BEGIN:STANDARD
TZOFFSETFROM:+0200
TZOFFSETTO:+0100
TZNAME:CET
DTSTART:20251026T010000
END:STANDARD
BEGIN:DAYLIGHT
TZOFFSETFROM:+0100
TZOFFSETTO:+0200
TZNAME:CEST
DTSTART:20260329T010000
END:DAYLIGHT
BEGIN:STANDARD
TZOFFSETFROM:+0200
TZOFFSETTO:+0100
TZNAME:CET
DTSTART:20261025T010000
END:STANDARD
BEGIN:DAYLIGHT
TZOFFSETFROM:+0100
TZOFFSETTO:+0200
TZNAME:CEST
DTSTART:20270328T010000
END:DAYLIGHT
BEGIN:STANDARD
TZOFFSETFROM:+0200
TZOFFSETTO:+0100
TZNAME:CET
DTSTART:20271031T010000
END:STANDARD
END:VTIMEZONE
BEGIN:VTIMEZONE
TZID:UTC
BEGIN:STANDARD
TZOFFSETFROM:+0000
TZOFFSETTO:+0000
TZNAME:UTC
DTSTART:20240101T000000
END:STANDARD
END:VTIMEZONE
BEGIN:VEVENT
DTSTART;TZID=Europe/Paris:20260205T193000
DTEND;TZID=Europe/Paris:20260205T213000
DTSTAMP:20260425T040621
CREATED:20251224T161946Z
LAST-MODIFIED:20260125T121125Z
UID:1344-1770319800-1770327000@rockinrootsevents.co.uk
SUMMARY:Martin McNeill: An Intimate Blues Experience At Southey Brewery
DESCRIPTION:PURCHASE TICKETS\n\n\n\n\nMartin McNeill: An Intimate Blues Experience\n\n\n\n  \n\n\n\nDoors Open 7pm \n\n\n\nShow starts 7:30pm \n\n\n\nExtremely Limited Tickets – Book Early to Avoid Disappointment! \n\n\n\nPrepare for a truly unique and stripped-back evening of world-class blues as UK Blues Awards nominee\, Martin McNeill\, performs for a super intimate audience above Southey Brewery. \n\n\n\nCited as one of the UK’s finest slide guitarists\, Martin is steeped in the sounds of vintage masters like Robert Johnson\, Muddy Waters\, and Elmore James. This is your chance to witness his raw\, old-school talent up close in a special\, atmospheric setting. \n\n\n\nExpect a set that dives deep into authentic blues\, punctuated by soulful reworkings of classic hits from artists like Marvin Gaye and Ray Charles. \n\n\n\nAcoustic & Up Close: An exclusive\, intimate performance format.  \n\n\n\nAward-Winning Talent: Featuring the 2022 GSMC Instrumentalists of the Year winner and 2025 UK Blues Awards nominee.  \n\n\n\nVenue: Above Southey Brewery – a one-off\, atmospheric location.  \n\n\n\nDue to the extremely limited capacity of this unique venue\, tickets are strictly scarce. Secure yours now for a night of unforgettable bottleneck blues. \n\n\n\n\n\n\n\n\n\n5TH FEBRUARY 2026  \n\n\n\nDOORS 7PM  \n\n\n\nSHOWTIME 7:30PM  \n\n\n\nSOUTHEY BREWERY \n\n\n\nPENGE
URL:https://rockinrootsevents.co.uk/event/martin-mcneill-an-intimate-blues-experience-at-southey-brewery/
LOCATION:SOUTHEY BREWERY CO\, 21 Southey Street\, Penge\, LONDON\, SE20 7JD\, United Kingdom
CATEGORIES:BLUES,LONDON,PENGE,SOUTHEY BREWERY
ATTACH;FMTTYPE=image/jpeg:https://rockinrootsevents.co.uk/wp-content/uploads/2025/12/MARTIN-MCNEIL-2026-.jpg
END:VEVENT
BEGIN:VEVENT
DTSTART;TZID=Europe/Paris:20251204T193000
DTEND;TZID=Europe/Paris:20251204T213000
DTSTAMP:20260425T040621
CREATED:20251026T095347Z
LAST-MODIFIED:20251201T173137Z
UID:780-1764876600-1764883800@rockinrootsevents.co.uk
SUMMARY:An Intimate Evening with Blues Legends: Dave Peabody & Alan Glen
DESCRIPTION:BUY TICKETS\n\n\n\n\n\n\n\n\nAn Intimate Evening with Blues Legends: Dave Peabody & Alan Glen – Extremely Limited Tickets! \n\n\n\n \n\n\n\nRockin’ Roots Events is proud to present a rare and intimate evening with two masters of the British blues scene. Join us on Thursday\, 4th December at Southey Brewery for a very special duo performance from Dave Peabody and Alan Glen.\n\n\n\nThis is not a typical show; it is an up-close and personal performance in a highly intimate setting. Capacity is extremely limited\, and this event is expected to sell out quickly.\n\n\n\n\nDave Peabody is a true giant of acoustic blues\, having been voted ‘Acoustic Blues Artist of the Year’ three times. He’s a seasoned international performer who has accompanied U.S. legends like David ‘Honeyboy’ Edwards and Charlie Musselwhite. He also fronts the King Earl Boogie Band\, featuring members of Mungo Jerry and the original Status Quo.\n\n\n\n\n\nAlan Glen is one of the UK’s most celebrated harmonica players\, best known for his work with The Yardbirds\, Nine Below Zero\, and Little Axe. His jaw-dropping session and performance credits read like a ‘who’s who’ of music history\, having recorded and played with Jeff Beck\, Slash\, Peter Green\, and John Mayall\, gracing stages from the Royal Albert Hall to the Montreux Jazz Festival.\n\n\n\n\nDo not miss this rare opportunity to see two of the most experienced and respected musicians in the business in such a close\, personal setting. Secure your tickets immediately.
URL:https://rockinrootsevents.co.uk/event/an-intimate-evening-with-blues-legends-dave-peabody-alan-glen/
LOCATION:SOUTHEY BREWERY CO\, 21 Southey Street\, Penge\, LONDON\, SE20 7JD\, United Kingdom
CATEGORIES:BLUES,LONDON,PENGE,SOUTHEY,SOUTHEY BREWERY
ATTACH;FMTTYPE=image/jpeg:https://rockinrootsevents.co.uk/wp-content/uploads/2025/10/SOUTHEY-A4-PEABODY-GLEN-scaled.jpg
END:VEVENT
BEGIN:VEVENT
DTSTART;TZID=UTC:20251002T193000
DTEND;TZID=UTC:20251002T223000
DTSTAMP:20260425T040621
CREATED:20250614T171857Z
LAST-MODIFIED:20250916T120801Z
UID:83-1759433400-1759444200@rockinrootsevents.co.uk
SUMMARY:MISSISSIPPI MACDONALD
DESCRIPTION:BUY TICKETS\n\n\n\n\n\n\n\nWE ARE EXCITED TO LAUNCH AN INTIMATE SHOWCASE EVENING OF AWARD WINNING BLUES UPSATIRS AT SOUTH BREWING TAPROOM.\n  \n\n  \nMississippi MacDonald\n  \n\n\n“MISSISSIPPI” MACDONALD \n                                    – Rising British Soul/Blues Artist Makes His Mark – \nOliver “Mississippi” MacDonald – a singer\, guitarist and songwriter from London\, England – speaks quietly but makes music with real gravitas. Olly (as friends call him) is a rising star\, having been honoured with a session by Cerys Matthews on her Radio 2 Blues show and championed by Mojo magazine. Both his fellow musicians and many music industry pundits predict big things for MacDonald. \nHis 2023 album Heavy State Loving Blues demonstrated how McDonald’s gravitas has developed\, matching his remarkable guitar playing with soulful vocals and strong original songs: here is a rising talent making his mark on the soul/blues scene. \n“I first got interested in guitar when I was a youngster at school and grunge and Britpop were what everyone was listening to\,” recalls MacDonald\, “but I was more interested in what I heard in my parents’ record collection – the likes of B.B. King and Al Green\, classic American blues and soul artists. I never dreamed of being in Nirvana or Oasis like a lot of my school mates\, instead I wanted to go to Chicago and see the clubs where Muddy Waters used to play!” \nThis led to Olly being nicknamed “Mississippi” by pals due to his passion for music from the US South. Interestingly\, MacDonald says he never felt any great connection to the British blues scene of the 1960s. “I like records I’ve heard by the Stones and Fleetwood Mac and John Mayall\,” he notes\, “but when I was learning guitar those artists were rock superstars and I was attracted to much more downhome sounds. I vividly recall going into the local Virgin record shop with the money I’d saved and buying an Albert Collins LP – and that blew my mind!” \nMacDonald learnt guitar from studying the likes of the Kings – B.B.\, Albert\, Freddie – and the aforementioned Collins. He also listened intently to the likes of ZZ Hill and O.V. Wright\, Southern soul singers whose voices possessed a blues inflection. \n“They express themselves with real power yet remain eloquent and soulful\,” says MacDonald. “No histrionics or showing off – the great soul and blues vocalists sing in a way that conveys the song as if a friend was telling you of their trials and tribulations. Same for my favourite guitarists – I value economy and expression\, not guitar histrionics. ” \nMacDonald\, happy to be a tortoise not a hare\, worked away at his craft\, playing locally and privately pressing recordings\, a suburban bluesman with a family to support. Then\, post-lockdown\, he raised his game\, signed to Another Planet Music and started getting booked beyond the local pub/club circuit he’d cut his teeth on. His APM debut album Do Right\, Say Right was released in late-2021 and won accolades across the UK\, Europe and the US.  Guesting on US harp player/vocalist Steve Bailey’s Crazy About You album (a tribute to the late Sonny Boy Williamson II) demonstrated that Olly could hold his own with the Americans. Then came Heavy State Loving Blues – here MacDonald demanded and grabbed attention: he is the most exciting British electric guitarist in years as well as a singer and songwriter of considerable note. And never less than soulful. \n“I’ve been out there grafting for several years\,” notes MacDonald\, “and it’s like I’ve finished my apprenticeship and am ready to play alongside my heroes. Veteran Memphis soul singer Vaneese Thomas – Rufus Thomas’ youngest daughter – guested on Heavy State and it was an honour to sing alongside her\, we really connected. This led to me being invited to play at the International Blues Challenge in Memphis and record a track with Freddie King’s brother Benny Turner. I also got to meet Boo Mitchell.” \nBoo Mitchell is the son and heir of the late Willie Mitchell\, the Memphis maestro who defined the sound of 70s Southern soul by producing hits on Al Green\, Otis Clay\, Ann Peebles\, O.V. Wright and others at Royal Sound Studios. Olly and Boo hit it off and an arrangement was made for MacDonald to return and record at Royal Sound Studios with the Hi Rhythm Section as his backing band – the same band who backed Al\, Otis\, Ann and O.V. Olly returned to Memphis and laid down the tunes for his forthcoming 2024 album Mississippi MacDonald with Hi Rhythm. “A life changing experience\,” says MacDonald of the Royal sessions. \nOliver “Mississippi” MacDonald’s fluid fingers\, a singular voice and songwriting talent mark him as the new voice of British soul-blues – note his name. \n\n\n\n\n\n  \n  \n\n\n\n\n\n\n\n\n\nCLICK HERE FOR MORE SHOWS FROM ROCKIN’ ROOTS EVENTS
URL:https://rockinrootsevents.co.uk/event/mississippi-macdonald/
LOCATION:SOUTHEY BREWERY CO\, 21 Southey Street\, Penge\, LONDON\, SE20 7JD\, United Kingdom
CATEGORIES:LONDON,PENGE,SOUTHEY,SOUTHEY BREWERY
ATTACH;FMTTYPE=image/jpeg:https://rockinrootsevents.co.uk/wp-content/uploads/2025/06/SOUTHEY-A4-2-scaled.jpg
END:VEVENT
END:VCALENDAR