BEGIN:VCALENDAR
VERSION:2.0
PRODID:-//ROCKIN&#039; ROOTS EVENTS - ECPv6.15.20//NONSGML v1.0//EN
CALSCALE:GREGORIAN
METHOD:PUBLISH
X-ORIGINAL-URL:https://rockinrootsevents.co.uk
X-WR-CALDESC:Events for ROCKIN&#039; ROOTS EVENTS
REFRESH-INTERVAL;VALUE=DURATION:PT1H
X-Robots-Tag:noindex
X-PUBLISHED-TTL:PT1H
BEGIN:VTIMEZONE
TZID:UTC
BEGIN:STANDARD
TZOFFSETFROM:+0000
TZOFFSETTO:+0000
TZNAME:UTC
DTSTART:20240101T000000
END:STANDARD
END:VTIMEZONE
BEGIN:VEVENT
DTSTART;TZID=UTC:20251018T130000
DTEND;TZID=UTC:20251018T223000
DTSTAMP:20260424T215121
CREATED:20250613T083621Z
LAST-MODIFIED:20251016T091559Z
UID:60-1760792400-1760826600@rockinrootsevents.co.uk
SUMMARY:KENT BLUES AND ROCK FESTIVAL 2025
DESCRIPTION:BUY TICKETS\n\n\n\n\n\n\nKENT BLUES & ROCK FESTIVALBOURNEFEST 2025 !!!!! \n\n\n\nWe are massively excited to announce the lineup for KENT BLUES & ROCK FESTIVAL 2025 will consist of 6 exciting bands.  \n\n\n\nHere are the expected timings : \n\n\n\nAlly Venable Band 9pm to 10:30pmHippies & Cowboys 7:20pm to 8:30pmBig Wolf Band 5:50pm. to 6:50pmThe Della Grants 4:20pm. to 5:20pmRichard Clarke Band. 2:55pm. to 3:50pmBig River. 1:30pm to 2:25pm \n\n\n\nDoors open 1pm \n\n\n\n \n\n\n\n🔥 KENT BLUES & ROCK FESTIVAL (Bournefest 2025): NEW LOOK\, BIGGER LINEUP\, EARLIER DOORS! 🔥 \n\n\n\nGet ready\, Kent! Bournefest 2025 is back with a fresh\, electrifying new look\, and we’re pulling out all the stops to make this the biggest and best Kent Blues & Rock Festival yet! We’re celebrating our exciting new branding by adding even MORE incredible music and opening the doors earlier at 1:00 PM! \n\n\n\nJoin us at The Appleyard (The Bourne Music Club) in Sittingbourne on Saturday\, October 18th\, 2025\, for a full day of non-stop\, top-tier blues\, rock\, and roots music! \n\n\n\nWe’re thrilled to confirm a phenomenal lineup of 6 awesome\, quality bands – all for one amazing ticket price! You asked for more\, and we delivered! \n\n\n\n\n\n\n\nHere’s your full\, powerhouse lineup for KENT BLUES & ROCK FESTIVAL 2025: \n\n\n\nALLY VENABLE BAND (USA):  \n\n\n\nHeadlining all the way from Texas\, the critically acclaimed blues-rock guitar phenomenon and vocalist will ignite the stage with her dynamic presence. \n\n\n\nHIPPIES & COWBOYS (USA):  \n\n\n\nFrom Nashville\, prepare for their unique blend of raw rock ‘n’ soul\, masterfully fusing Southern rock\, blues\, and classic rock influences into an unforgettable sound. \n\n\n\nBIG WOLF BAND (UK): \n\n\n\n This explosive\, dynamic\, and raw blues-rock machine from Birmingham is a consistent favourite\, recently lauded as a Top 5 UK Blues Band – expect pure energy! \n\n\n\nTHE DELLA GRANTS (UK):  \n\n\n\nDelivering spectacular\, guitar-based Blues/Rock\, their tight performances and compelling songwriting always earn rave reviews and captivate audiences. \n\n\n\nRICHARD CLARKE BAND (UK):  \n\n\n\nBringing their signature blend of blues\, R&B\, soul\, and pop\, the Richard Clarke Band adds a rich\, versatile layer to the festival’s diverse soundscape. \n\n\n\nPLUS: KENT’S OWN BIG RIVER! Your new favourite ’70s-inspired blues-rock powerhouse\, guaranteeing big riffs and soulful grooves to kick off the day. \n\n\n\nHeld indoors at The Appleyard. Bournefest promises an electric atmosphere with top-tier sound production\, delicious food\, and refreshing drinks available throughout the day. It’s the perfect setting to immerse yourself in world-class Blues\, Rock & Roots\, surrounded by fellow enthusiasts. \n\n\n\nThis is your chance to be part of Sittingbourne’s premier music event\, experiencing the very best in live music from both established international acts and phenomenal UK talent \n\n\n\n \n\n\n\nDon’t miss a single minute of the action! Secure your tickets now and get ready for an unforgettable day of pure musical passion! \n\n\n \n\n\nAlly Venable\n \n \n\n\nTexas blues-rock singer/songwriter and guitarist extraordinaire\, Ally Venable\, entertains wherever she goes.\nWith her signature glitter dresses and black knee-high boots\, Venable comes off of the ropes swinging dazzling crowds on tour or throughout the festival circuit. \n“Venable pulls off a stunner of gritty and/or sultry blues rock tunes embellished with lots of tasty guitar solos.” – Guitar Player Magazine. \nA Kilgore\, Texas native\, Ally began singing at church at four and picked up the guitar at age 12. By 13\, she started her own band and through her early influence of Stevie Ray Vaughan captured the passion and yearning for more in the blues genre. \nEarly releases No Glass Shoes (2016) and Puppet Show (2018) started her fanbase\, charting radio play\, and several East Texas Music Awards. It was 2019’s #2 Billboard Blues charting Texas Honey and rocking sets on Ruf’s European Blues Caravan tour that propelled her internationally. \n“Ally is the future of blues and the crossover music of American roots-rock.” – Mike Zito.\nIn what silenced many musicians during the pandemic\, Venable now in her 20’s\, released another Blues Billboard charting album\, Heart of Fire (2021)\, which challenged her to write not only about love but the unguarded honesty of feeling pain.”On this album\,I really wanted to create a tone of overcoming your struggles and persevering through them\,” she explains. Mentor and featured artist on this album\, Kenny Wayne Shepherd\, lends his guitar skills on XM Bluesville’s charted song\, “Bring on the Pain.” \nIn 2022\, Guitar World Magazine named Ally #2 on the top 15  Young Guns Making the Gibson Les Paul Cool Again\, and she received the Road Warrior award from the Independent Blues Music Awards.  Along with Ally’s own tour domestically and in Europe\, her band has supported Buddy Guy and Kenny Wayne Shepherd throughout the US\, as well as Colin James in Canada. She has performed as a featured artist on the Experience Hendrix Show at the ACL Live at Moody Theater in Austin\, Texas. Venable’s  recent spring 2023 release produced by Grammy award winning producer\, Tom Hambridge\,  includes a duet with the iconic Buddy Guy and a song featuring powerhouse guitarist Joe Bonamassa debuted at #1 on the Billboard Blues Charts & has remained in the top 100 since the release date. \n\n \n\n\n\n\n\nHIPPIES & COWBOYS \n  \n \n\n\nHippies And Cowboys are a powerhouse rock ’n soul band hailing from Nashville\, TN\, bringing back the grit\, groove\, and raw energy of classic Southern rock with a modern twist. Their electrifying blend of blues\, soul\, and rock ’n’ roll channels the timeless influences of legends like Sam & Dave\, The Blues Brothers\, Booker T. & The MG’s\, Otis Redding\, and Marvin Gaye\, while embracing the stadium-sized swagger of Aerosmith\, Lynyrd Skynyrd\, The Eagles\, The Rolling Stones\, and Tom Petty.\nFrom their early recordings in the legendary studios — such as FAME in Muscle Shoals\, East Avalon\, and Noise Block—to their explosive live performances\, Hippies And Cowboys have quickly become one of the most talked-about rising acts in the Southern rock revival. Their debut album\, Live at Fox and Locke (2023)\, captured the raw energy of their live show\, earning critical acclaim and setting the stage for their breakout. The follow-up EP\, Fork in the Road\, solidified their reputation with a gritty\, hard-hitting collection of songs that showcase their deep Southern roots and undeniable musicianship. Hippies and Cowboys has also been the house band at Kid Rock’s Honky Tonk on Broadway in downtown Nashville for numerous years which has allowed them an extensive repertoire of songs and abilities.\nHippies And Cowboys have taken their high-energy show across the country\, playing at major festivals like Pilgrimage Festival and Bristol Rhythm & Roots Revival. They’ve shared the stage with rock and country royalty\, opening for acts like Goo Goo Dolls\, Blackberry Smoke\, Atlanta Rhythm Section\, and even Bon Jovi at the grand opening of his Nashville bar. Their relentless touring schedule and electrifying performances have built them a loyal following\, earning them a reputation as one of the most exciting live bands on the circuit. In 2025\, they are slated to perform at Chinook Festival\, Pilgimage Festival\, Bristol Rhythm & Roots Revival\, WEFest\, and much more with plans to tour Europe in October 2025.Their rise hasn’t gone unnoticed—Hippies And Cowboys have been featured in Rolling Stone\, People Magazine\, and Paste Magazine\, solidifying their place as a band to watch in the evolving Southern rock landscape. As they continue to carve their own path\, Hippies And Cowboys are proving that the spirit of rock ‘n’ roll is alive and well\, and they’re here to take it to the next level.\n  \n \n  \n \n\n\n\n\n\n\n\n\nBig Wolf Band\nFormed in Birmingham in 2014\, by acclaimed guitarist\, vocalist and songwriter Jonathan Earp and bass player Mick Jeynes\, explosive\, dynamic\, raw\, emotional\, and hardworking are just some of the words used to describe the Big Wolf Band. With Tim Jones on drums\, Justin Johnson on guitar and Robin Fox on keys they form one formidable blues rock machine.\n \n\n\nBig Wolf Band are on the rise making the Top 5 of the best blues bands in the UK via the UK Blues Awards in 2023 and 2024\, receiving multiple nominations in various categories. Big Wolf Band have cemented there place as one of the best live bands on the scene.\n \nBig Wolf Band have garnered airplay from Paul Jones on his Radio 2 show\, Planet Rock\, HRH radio\, FM radio across Europe\, Australia and the USA and a wide range of international podcasts and internet radio stations. They have also had some amazing reviews of their albums across the globe.\nBig Wolf Band started their biggest headline tour in 2024 extensively touring the UK and Europe. “Rebel’s Journey” the third Big Wolf Band studio album was released worldwide on 19th April 2024 to much acclaim with multiple reviews to back this up and the album itself reached Number 1 in the Amazon Best Selling Blues Chart\, Amazon Hot New Releases and most recently Number 1 in the IBBA chart for May 2024. Several tracks being added to Joe Bonamassa’s Spotify Playlist “Cutting Edge Blues” and “Ultimate Blues Rock.”  They are still touring extensively across the UK.\n \nUK Blues Band of the Year Finalist 2024\nUK Blues Band of the Year Finalist 2023\nUK Blues Challenge Finalist 2022\nMultiple Award Nominees in 2023 and 2024 UK Blues Federation Blues Awards\n \n\n\n The Della Grants\nThe Della Grants are an English band whose self-penned songs seamlessly bridge the gaps between Blues\, Rock\, and Americana. Since their inception in 2014 The DGs have made a name for themselves among industry professionals and fellow musicians alike; for their song writing ability and on-stage performances.\n \n\n\n \n\n\n\n\n\n\n  \n\n \n\n \nRichard Clarke Band:\n“The guitar spoke to me\, and I was hooked from the moment I picked it up. \n”Richard Clarke is a London-based blues artist\, known for his intricate guitar work and stirring vocals\, with nearly two decades of experience performing across Europe.He began playing professionally at the age of 15\, cutting his teeth in local venues on the outskirts of London. His talent soon gained recognition in the UK blues scene\, earning nominations for UK Blues Male Vocalist and Guitarist of the Year in 2013. \nOver the next decade\, he continued to refine his craft\, taking his infectious personality and energetic performances across Europe\, including a prestigious show for royalty in the UAE. Most recently\, he toured Central Europe as a founding memberof Connolly Hayes\, a UK Blues Emerging Act of the Year 2024 nominee before leaving the band in October 2024 to pursue a solo career. \nInfluenced by blues legends John Mayer\, Eric Clapton\, Stevie Ray Vaughan\, and BB King\, Richard delivers a signature blend of blues\, R&B\, soul\, and pop. \nHis live performances combine melodic guitar work with infectious grooves\, wooing audiences across intimate venues and major festivals. \n2025 sees Richard step forward as a solo artist with four original tracks produced by Adrian Hall. \nThe new EP showcases his musical range\, opening with the upbeat “Good Thing” before easing into a soulful re-release of “Sleeping Easy.” The heartfelt “Don’t Know Where I Went Wrong” strips everything back\, before the funk-infused “Something’s Going On” rounds off the collection. \nBacked by an accomplished lineup featuring bassist Sonny Winslow (Connor Selby)\, drummer Jonny Brister (Jake Shears)\, and Paul Jordanous (Rag ‘n’ Bone Man) on keys and trumpet\, Richard is excited to bring his new materialto the UK and European stages in the year ahead. \n \n \n \n\n\n\n\nBIG RIVER \n\n\n\nThis powerhouse trio prides itself on delivering a compelling blend of blues and rock energy\, infused with the raw\, authentic spirit of their Kentish roots. Known for their dynamic live performances and soulful\, high-energy sound\, Big River brings a fresh yet timeless approach to the genre. Expect driving rhythms\, captivating guitar work\, and powerful vocals that resonate with every listener. \n\n\n\nWhether they’re tearing up a festival stage or igniting an intimate club\, Big River Band guarantees a memorable and electrifying experience. Don’t miss your chance to see Kent’s Big River Band live – they’re a force to be reckoned with!
URL:https://rockinrootsevents.co.uk/event/kent-blues-rock-festival-2025/
LOCATION:THE BOURNE MUSIC CLUB\, THE APPLEYARD\, AVENUE OF REMEMBRANCE\, SITTINGBOURNE\, KENT\, ME10 4DE\, United Kingdom
CATEGORIES:BOURNEFEST,FESTIVAL,SITTINGBOURNE,THE APPLEYARD,THE BOURNE MUSIC CLUB
ATTACH;FMTTYPE=image/jpeg:https://rockinrootsevents.co.uk/wp-content/uploads/2025/06/KENT-BLUES-ROCK-FESTIVAL-POSTER-2-scaled.jpg
END:VEVENT
BEGIN:VEVENT
DTSTART;TZID=UTC:20251009T193000
DTEND;TZID=UTC:20251009T223000
DTSTAMP:20260424T215121
CREATED:20250614T173748Z
LAST-MODIFIED:20250928T122616Z
UID:93-1760038200-1760049000@rockinrootsevents.co.uk
SUMMARY:BLACK MARKET III & VINYL PARADISE - DOUBLE HEADLINE IN SITTINGBOURNE
DESCRIPTION:BUY TICKETS\n\n\n\n\n\n\n\n\nBLACK MARKET III (BORDER BLUES • AMERICAN ROOTS • ROCK • SOUL) \nFormed in the Fall of 2011 by Scottie ‘Mad Dog’ Blinn\, former front man for the iconic\, multi-award winning San Diego band The Mississippi Mudsharks. \nBMIII crosses over\, using the Blues as the root of the sound.  \nIn addition to their original music\, BMIII features more obscure covers from Tom Waits\, Tito & Tarantula\, Leadbelly\, Dead Weather\, Social Distortion\, Led Zeppelin and many more.  \nNo pigeon holing this band–Blues and American Roots firmly planted\, yet not like anything you’ve heard or seen before.  \nWhile deeply rooted in traditional blues\, this powerhouse trio pushes boundaries with their trademarked ‘Grease Punk’sound – a unique fusion that’s as raw as it is refined. \n \nVinyl Paradise is a Maltese blues/blues-rock trio made up of Ben Bailey (guitar/vocals)\, Patrick Camilleri (drums) and Antoine Tonna (bass). Their collective love for the blues and knowledge of its conventions and techniques has resulted in the band delivering their own masterful take on the genre to audiences right across Malta.  \nThe three have had years of musical focus to develop their unique style\, first meeting in the band The Creepers – another blues band focused on replicating the sound of ‘vintage American blues’ – and later forming the trio Vinyl Paradise in January 2017.  \nTheir style mixes together blues\, funk\, rock n’ roll\, and soul\, with arrangements featuring solid grooves on the bass and drums which lay the foundation for deft guitar-work and 60s-soul-inspired vocals.These elements are immediately recognisable in their original work\, as well as any covers in their set\, which are always reworked to satisfy these criteria.  \nVinyl Paradise takes inspiration from the likes of the “3 Kings”\, Cream\, Gary Clark Jr\, Stevie Ray Vaughan\, John Mayer\, Jimi Hendrix\, amongst others.
URL:https://rockinrootsevents.co.uk/event/blacket-market-iii-vinyl-paradise-double-headline/
LOCATION:THE BOURNE MUSIC CLUB\, THE APPLEYARD\, AVENUE OF REMEMBRANCE\, SITTINGBOURNE\, KENT\, ME10 4DE\, United Kingdom
CATEGORIES:SITTINGBOURNE,THE APPLEYARD,THE BOURNE MUSIC CLUB
ATTACH;FMTTYPE=image/jpeg:https://rockinrootsevents.co.uk/wp-content/uploads/2025/06/DOUBLE-HEADLINE-SHOW-BLACK-MARKET-VINYL-PARADISE.jpg
END:VEVENT
BEGIN:VEVENT
DTSTART;TZID=UTC:20251001T190000
DTEND;TZID=UTC:20251001T223000
DTSTAMP:20260424T215121
CREATED:20250614T165410Z
LAST-MODIFIED:20250923T120150Z
UID:79-1759345200-1759357800@rockinrootsevents.co.uk
SUMMARY:JACK J HUTCHINSON LIVE IN SITTINGBOURNE
DESCRIPTION:BUY TICKETS\n\n\n\n\n\n\n JACK J HUTCHINSON LIVE IN SITTINGBOURNE\nGet ready for a night of music whiplash.\nDave Ferra kicks things off with stripped-back blues storytelling.\nJack J Hutchinson follows with full throttle rock fury.\nRock meets roots – don’t miss it !\nWho is Jack J Hutchinson? A blues troubadour? A Southern rockin’ songsmith? A guitar-shredding warrior? The fedora-wearing rocker wears all of these with so much buried within.Hutchinson has walked long\, hard miles to this point\, and the road strewn with obstacles\, frustration and difficulties builds resilience and hunger. Nothing worth having comes easily. \n“One of the things that’s kept me going is that I can kinda take the punches and keep going\,” he says with a casual defiance. “A lot has happened over the years. I’ve learnt that the one person I can rely on is myself. The only way I’ve found myself dealing with it all is to channel it into creativity.” \n\n \nHutchinson’s brand new album ‘Battles’ builds on the momentum gained having shared bills across the planet with bands including Blackberry Smoke\, ZZ Top and Jeff Beck. The record crash landed in the UK Official Independent Album Chart Top 20\, gaining over 120K streams in its first week alone. It features two Planet Rock playlisted tracks – ‘Constellations’ and ‘Bullets’ – plus ‘Days Are Gone’\, which was featured on the BBC Radio 2 Rock Show.\n \n \nHutchinson takes the album on the road throughout 2024\, building on a 10 year touring career that has included multiple headline tours of the UK\, America\, Brazil\, Spain and Czech Republic\, plus festival appearances in Germany\, Switzerland and France.\n“Gritty riffs and blazing solos.” (Planet Rock) \n“Tough\, immediate and rockin’. Hutchinson was born to sing soul and blues.” (Classic Rock Magazine) \n“An angst-ridden blaze of creative glory.” (Rush On Rock) \n“Hutchinson’s vocals soar with haunting poignancy\, against a backdrop of blistering blues-rock melodies.” (MNPR Magazine) \n“Growling vocals combine with raunch ‘n’ roll acoustic and electric guitars. A name to watch out for.” (Guitarist Magazine) \n 
URL:https://rockinrootsevents.co.uk/event/jack-j-hutchinson/
LOCATION:THE BOURNE MUSIC CLUB\, THE APPLEYARD\, AVENUE OF REMEMBRANCE\, SITTINGBOURNE\, KENT\, ME10 4DE\, United Kingdom
CATEGORIES:SITTINGBOURNE,THE APPLEYARD,THE BOURNE MUSIC CLUB
ATTACH;FMTTYPE=image/jpeg:https://rockinrootsevents.co.uk/wp-content/uploads/2025/06/JACK-25-2.jpg
END:VEVENT
BEGIN:VEVENT
DTSTART;TZID=UTC:20250828T190000
DTEND;TZID=UTC:20250828T223000
DTSTAMP:20260424T215121
CREATED:20250613T110417Z
LAST-MODIFIED:20250802T173343Z
UID:73-1756407600-1756420200@rockinrootsevents.co.uk
SUMMARY:THE WILSON BROTHERS LIVE IN SITTINGBOURNE
DESCRIPTION:BUY TICKETS\n\n\n\n\n\nTHE WILSON BROTHERS\, BEAMED IN FROM ANOTHER DIMENSION WITH EXPLOSIVE CONTEMPORARY ROCK AND ROLL\, FLIRTING WITH PSYCHEDELIC BLUES\, CULMINATING IN AN EMOTIONAL EXPERIENCE THAT TANTALISES THE SENSES.\nTHIS IS THE SOUND OF THE FUTURE; HEARTFELT\, EXPANSIVE\, INSPIRATIONAL\, DELICATE AND EXCITING. WELCOME TO A DIVERGENT PHILOSOPHICAL JOURNEY.\n \nASH & PHIL WILSON HAVE CONSIDERABLE MUSICAL EXPERIENCE PLAYING ALONGSIDE SARI SCHORR\, SCOTT MCKEON\, SEAN WEBSTER\, JESSE DAVEY AND WELL HUNG HEART. \nTHEY HAVE BEEN JOINED ON THIS EXCITING NEW VENTURE BY THEIR MUSICAL BROTHER ROGER WILSON INNISS WHOSE BACKGROUND INCLUDES ARTISTS SUCH AS CHAKA KHAN\, MICK TAYLOR\, ERROL BROWN AND JOANNE SHAW TAYLOR ADDING A SONIC CHEMISTRY THAT HAS TO BE HEARD TO BE BELIEVED.\nDOORS 7PM\nMUSIC FROM 7:30PM\n GUEST SUPPORT : PHIL WOOLLETT FROM JOHN DOE TRIO\n  \nTHIS SHOW WILL BE HELD IN THE SAPLING ROOM OF THE APPLEYARD\, SITTINGBOURNE\n \n 
URL:https://rockinrootsevents.co.uk/event/the-wilson-brothers/
LOCATION:THE BOURNE MUSIC CLUB\, THE APPLEYARD\, AVENUE OF REMEMBRANCE\, SITTINGBOURNE\, KENT\, ME10 4DE\, United Kingdom
CATEGORIES:SITTINGBOURNE,THE APPLEYARD,THE BOURNE MUSIC CLUB
ATTACH;FMTTYPE=image/jpeg:https://rockinrootsevents.co.uk/wp-content/uploads/2025/06/WILSON-BROTHERS-25.jpg
END:VEVENT
BEGIN:VEVENT
DTSTART;TZID=UTC:20250709T190000
DTEND;TZID=UTC:20250709T223000
DTSTAMP:20260424T215121
CREATED:20250613T105222Z
LAST-MODIFIED:20250619T172501Z
UID:69-1752087600-1752100200@rockinrootsevents.co.uk
SUMMARY:STACY MITCHHART LIVE IN SITTINGBOURNE
DESCRIPTION:“Talented singer-guitarist Stacy Mitchhart goes for Delta stomp and juke joint roughness … he and his electrifying sidekicks pull it off.” –  Frank-John Hadley\, DownBeat \n\n\n\nStacy Mitchhart is a highly sought-after performer known for his dynamic live shows and exceptional musicianship. Whether he’s performing with his full band or solo\, Stacy is guaranteed to captivate audiences at festivals\, concerts\, clubs\, and private events.\n\n\n\nWith a worldwide fan base\, national television exposure\, and radio airplay\, Stacy has earned a reputation as a top-notch entertainer. His skillful guitar playing\, and powerful vocals have been the driving forces behind his successful career\, and he has won numerous industry awards and released 16 CDs\, and a documentary titled “Nashvegas Blues.” Stacy also holds seven major endorsements and actively tours the US and abroad.\n\n\n\nStacy’s music is a blend of deep Southern blues and modern guitar\, and he has been recognized by the Canadian Blues Hall of Fame\, Guitar Player Magazine\, and Billboard Album Charts.\n\n\n\nIn addition to his many accolades\, Stacy has won the Blues Foundation’s prestigious Albert King Award for his guitar playing\, and been named Blues Entertainer of the Year\, Blues Male Vocalist of the Year\, Blues Guitarist of the Year\, Electric Blues Act of the Year\, Acoustic Blues Act of the Year\, and more by the Music City Blues Society (Nashville).\n\n\n\n\n\n\n\n“I haven’t heard anyone that has that fire in a long time.” – Junior Wells \n\n\n\n“He can share my stage anytime\, anywhere.”  – Kenny Neal\n\n\n\n“Watch out! This is one bad\, young man.” – Bobby “Blue” Bland\n\n\n\n\n\n\n\n\n\n\n\n \n \n \n 
URL:https://rockinrootsevents.co.uk/event/stacy-mitchhart/
LOCATION:THE BOURNE MUSIC CLUB\, THE APPLEYARD\, AVENUE OF REMEMBRANCE\, SITTINGBOURNE\, KENT\, ME10 4DE\, United Kingdom
CATEGORIES:SITTINGBOURNE,THE APPLEYARD,THE BOURNE MUSIC CLUB
ATTACH;FMTTYPE=image/jpeg:https://rockinrootsevents.co.uk/wp-content/uploads/2025/06/STACY25-insta.jpg
END:VEVENT
BEGIN:VEVENT
DTSTART;TZID=UTC:20250702T190000
DTEND;TZID=UTC:20250702T223000
DTSTAMP:20260424T215121
CREATED:20250613T104403Z
LAST-MODIFIED:20250619T164106Z
UID:65-1751482800-1751495400@rockinrootsevents.co.uk
SUMMARY:JAMES OLIVER BAND
DESCRIPTION:The James Oliver Band ft. Norman Watt-Roy & Mark Kemlo Hit The Bourne Music Club! 🎸🔥 \nMark your calendars\, Sittingbourne! The legendary James Oliver Band is roaring into The Bourne Music Club on Wednesday\, July 2nd\, 2025\, and they’re bringing some serious firepower with them! \nPrepare for an unforgettable night of blistering rock n’ roll  as the phenomenal James Oliver unleashes his incredible guitar skills and soulful vocals. But that’s not all – joining him on stage are none other than the iconic bassist Norman Watt-Roy (Blockheads) and the powerhouse drummer Mark Kemlo!  What a line up !!!! \nExpect a set packed with raw energy\, infectious grooves\, and the kind of musicianship that will leave you breathless. This is your chance to witness this exciting band tearing it up live in the intimate setting of The Bourne Music Club. \nDon’t miss this exceptional musical event! Grab your tickets now before they’re gone! \nWednesday\, July 2nd\, 2025 The Bourne Music Club\, Sittingbourne Doors at 7pm \nADVANCE TICKET £16.50 including booking fee \nDOOR TICKET ( if available ) £20 \n #JamesOliverBand #NormanWattRoy #MarkKemlo #BourneMusicClub #Sittingbourne #KentLiveMusic #BluesRock #LiveMusicKent #SupportLiveMusic #GigAlertKent #Blockheads
URL:https://rockinrootsevents.co.uk/event/james-oliver-band/
LOCATION:KENT
CATEGORIES:SITTINGBOURNE,THE APPLEYARD,THE BOURNE MUSIC CLUB
ATTACH;FMTTYPE=image/jpeg:https://rockinrootsevents.co.uk/wp-content/uploads/2025/06/JOB25-insta.jpg
END:VEVENT
END:VCALENDAR