BEGIN:VCALENDAR
VERSION:2.0
PRODID:-//ROCKIN&#039; ROOTS EVENTS - ECPv6.15.20//NONSGML v1.0//EN
CALSCALE:GREGORIAN
METHOD:PUBLISH
X-ORIGINAL-URL:https://rockinrootsevents.co.uk
X-WR-CALDESC:Events for ROCKIN&#039; ROOTS EVENTS
REFRESH-INTERVAL;VALUE=DURATION:PT1H
X-Robots-Tag:noindex
X-PUBLISHED-TTL:PT1H
BEGIN:VTIMEZONE
TZID:UTC
BEGIN:STANDARD
TZOFFSETFROM:+0000
TZOFFSETTO:+0000
TZNAME:UTC
DTSTART:20240101T000000
END:STANDARD
END:VTIMEZONE
BEGIN:VEVENT
DTSTART;TZID=UTC:20250625T193000
DTEND;TZID=UTC:20250625T223000
DTSTAMP:20260425T143342
CREATED:20250610T112900Z
LAST-MODIFIED:20250619T111012Z
UID:40-1750879800-1750890600@rockinrootsevents.co.uk
SUMMARY:CONNOR SELBY
DESCRIPTION:The Connor Selby Band will be live at The Bourne Music Club on 25th June 2025. If you’re a fan of authentic\, soulful blues\, this is an event you won’t want to miss!Young troubadour Connor Selby signed to Provogue Records in December 2022 and has released his major label debut\, the self titled Connor Selby to critical acclaim. One of the brightest talents on the UK blues scene. He has been voted “Young Artist of the Year” at the UK Blues Awards for the last three consecutive years (2020\, 2021\, 2022) and he already has an impressive venue checklist\, including Wembley Stadium\, where he opened for The Who in July 2019 and has since gone on to play Hyde Park\, London\, with Pearl Jam\, Stereophonics and Johnny Marr in the summer of 2022. Connor has also had a productive 2023 touring the UK as the opening act for Blues and Rock Luminaries Robert Cray and Beth Hart. There’s a timeless melancholic quality to his music. Relatable in its honesty and openness\, he draws from anxiety and vulnerability but delivers it with a world-worn elegance. The sky is the limit for Selby\, who\, along with awards\, has picked up numerous plays on BBC Radio 2. It’s easy to see why with his soulful blend of blues and his emotionally introspective songwriting\, which sits alongside his impressive armoury of guitar playing.\n\n\n\n\n🎸 Get ready for an unforgettable night of blues! 🎸\nBUY TICKETS \nThe Connor Selby Band will be live at The Bourne Music Club on 25th June 2025. If you’re a fan of authentic\, soulful blues\, this is an event you won’t want to miss!\nYoung troubadour Connor Selby signed to Provogue Records in December 2022 and has released his major label debut\, the self titled Connor Selby to critical acclaim. One of the brightest talents on the UK blues scene. He has been voted “Young Artist of the Year” at the UK Blues Awards for the last three consecutive years (2020\, 2021\, 2022) and he already has an impressive venue checklist\, including Wembley Stadium\, where he opened for The Who in July 2019 and has since gone on to play Hyde Park\, London\, with Pearl Jam\, Stereophonics and Johnny Marr in the summer of 2022. Connor has also had a productive 2023 touring the UK as the opening act for Blues and Rock Luminaries Robert Cray and Beth Hart. There’s a timeless melancholic quality to his music. Relatable in its honesty and openness\, he draws from anxiety and vulnerability but delivers it with a world-worn elegance. The sky is the limit for Selby\, who\, along with awards\, has picked up numerous plays on BBC Radio 2. It’s easy to see why with his soulful blend of blues and his emotionally introspective songwriting\, which sits alongside his impressive armoury of guitar playing.\n\n 
URL:https://rockinrootsevents.co.uk/event/connor-selby/
LOCATION:THE BOURNE MUSIC CLUB\, THE APPLEYARD\, AVENUE OF REMEMBRANCE\, SITTINGBOURNE\, KENT\, ME10 4DE\, United Kingdom
CATEGORIES:SITTINGBOURNE,THE BOURNE MUSIC CLUB
ATTACH;FMTTYPE=image/jpeg:https://rockinrootsevents.co.uk/wp-content/uploads/2025/06/CONNOR-GIGANTIC.jpg
END:VEVENT
END:VCALENDAR