BEGIN:VCALENDAR
VERSION:2.0
PRODID:-//ROCKIN&#039; ROOTS EVENTS - ECPv6.15.20//NONSGML v1.0//EN
CALSCALE:GREGORIAN
METHOD:PUBLISH
X-WR-CALNAME:ROCKIN&#039; ROOTS EVENTS
X-ORIGINAL-URL:https://rockinrootsevents.co.uk
X-WR-CALDESC:Events for ROCKIN&#039; ROOTS EVENTS
REFRESH-INTERVAL;VALUE=DURATION:PT1H
X-Robots-Tag:noindex
X-PUBLISHED-TTL:PT1H
BEGIN:VTIMEZONE
TZID:Europe/Paris
BEGIN:DAYLIGHT
TZOFFSETFROM:+0100
TZOFFSETTO:+0200
TZNAME:CEST
DTSTART:20250330T010000
END:DAYLIGHT
BEGIN:STANDARD
TZOFFSETFROM:+0200
TZOFFSETTO:+0100
TZNAME:CET
DTSTART:20251026T010000
END:STANDARD
BEGIN:DAYLIGHT
TZOFFSETFROM:+0100
TZOFFSETTO:+0200
TZNAME:CEST
DTSTART:20260329T010000
END:DAYLIGHT
BEGIN:STANDARD
TZOFFSETFROM:+0200
TZOFFSETTO:+0100
TZNAME:CET
DTSTART:20261025T010000
END:STANDARD
BEGIN:DAYLIGHT
TZOFFSETFROM:+0100
TZOFFSETTO:+0200
TZNAME:CEST
DTSTART:20270328T010000
END:DAYLIGHT
BEGIN:STANDARD
TZOFFSETFROM:+0200
TZOFFSETTO:+0100
TZNAME:CET
DTSTART:20271031T010000
END:STANDARD
END:VTIMEZONE
BEGIN:VTIMEZONE
TZID:UTC
BEGIN:STANDARD
TZOFFSETFROM:+0000
TZOFFSETTO:+0000
TZNAME:UTC
DTSTART:20240101T000000
END:STANDARD
END:VTIMEZONE
BEGIN:VEVENT
DTSTART;TZID=Europe/Paris:20260306T190000
DTEND;TZID=Europe/Paris:20260306T223000
DTSTAMP:20260425T041932
CREATED:20260117T170956Z
LAST-MODIFIED:20260225T175543Z
UID:1427-1772823600-1772836200@rockinrootsevents.co.uk
SUMMARY:CONNOLLY HAYES + Special Guests THE LOST SEARCH PARTY
DESCRIPTION:PURCHASE TICKETS\n\n\n\n\nCONNOLLY HAYES + Special Guests THE LOST SEARCH PARTY \n\n\n\nOn Friday 6th March\, Rockin’ Roots Events are proud and excited to bring an evening of  Blues\, Soul\, Swagger & The Spirit of Rock n’ Roll as we welcome CONNOLLY HAYES plus THE LOST SEARCH PARTY to the stage! \n\n\n\nWe’re combining the high-energy\, stadium-sized attitude of the New Wave of Classic Rock with the sophisticated\, modern grooves of Blues & Soul \n\n\n\nSPECIAL GUESTS: The Lost Search Party Kicking things off\, we have Kent’s very own The Lost Search Party. If you’re a fan of big hooks\, driving rhythms\, and that classic ‘turn it up’ energy\, you are in for a treat. They bring the swagger of the NWOCR scene right to our doorstep\, setting the perfect temperature for the evening. Expect passion\, grit\, and a set that demands your attention. \n\n\n\nHEADLINING: Connolly Hayes Then\, we shift gears for pure musical class. Connolly Hayes are fast becoming the standard-bearers for blues-rock and soul in the UK. This isn’t just “blues”—it’s a powerhouse performance of vocal prowess and guitar mastery that rivals the likes of the Tedeschi Trucks Band. They bring the emotion\, the groove\, and the kind of musicianship that leaves a room in stunned silence.+ \n\n\n\nOne night. Two incredible vibes. This is Rockin’ Roots at its best. \n\n\n\n\n\n\n\n\n \n\n\n\n\n\n\n\n\n\n\n\n\n\n\n\n\n\n\n\n\n\n\n\n\n\n\n\n\n\n\n\n\n\n\n\n\n\n\n\n\n6TH MARCH 2026 \n\n\n\nDOORS 7PM  \n\n\n\n \n\n\n\nTHE OLD BREWERY STORE  \n\n\n\nFAVERSHAM
URL:https://rockinrootsevents.co.uk/event/connolly-hayes-special-guests-the-lost-search-party/
LOCATION:THE OLD BREWERY STORE\, MILL PLACE\, FAVERSHAM\, KENT\, ME13 7DY\, United Kingdom
CATEGORIES:BLUES,BLUES ROCK,KENT,THE OLD BREWERY STORE
ATTACH;FMTTYPE=image/jpeg:https://rockinrootsevents.co.uk/wp-content/uploads/2026/01/Copy-of-CONNOLLY-HAYES-MARCH-26-3.jpg
END:VEVENT
BEGIN:VEVENT
DTSTART;TZID=Europe/Paris:20260128T190000
DTEND;TZID=Europe/Paris:20260128T223000
DTSTAMP:20260425T041932
CREATED:20250827T125643Z
LAST-MODIFIED:20251224T152339Z
UID:662-1769626800-1769639400@rockinrootsevents.co.uk
SUMMARY:PREACHER STONE LIVE IN FAVERSHAM
DESCRIPTION:By The Horns UK Tour 2026 – Special Guests Revenant \n\n\n\n\n\n\n\n\n\n\n\n\nPURCHASE TICKETS\n\n\n\n\n\n\n\n\nPREACHER STONE LIVE IN FAVERSHAM !!!! \n\n\n\nPREACHER STONE \n\n\n\nKicking boots out of North Carolina USA\, Preacher Stone’s high-octane\, 200 proof\, rock-n-roll guitar-driven songs about the common man with heart-wrenching smoky bar frequenting tales and the swagger of their live performances have earned them a legion of faithful fans known as“The Congregation”. \n\n\n\nHaving endeavoured through adversity in the past the brotherhood of the band is steeped in musical heritage\, previously their song ‘Not Today’ was featured on two seasons of the hit TV series Sons of Anarchy and lengthy tours include across the United States\, UK and Europe sharing stages with legendary household names such as Lynyrd Skynyrd\, ZZ Top\, Deep Purpleand more to rapturous acclaim from fans and critics alike.  \n\n\n\nThe most recent album ‘V’ was released in 2024 garnering stellar reviews across the board including Maximum Volume Music confirming “Authentic to their very core. 8.5/10”\, Metal Talk stating it’s “An album that demandsattention” and Emerging Rock Bands imploring listeners to “Enjoy a proper rock and roll party. 9/10.” Their highly anticipated new album ‘By The Horns’ released October 17 2025 to rave reviews. \n\n\n\nREVENANT \n\n\n\nRevenant brings a huge rock sound with a southern spin and have been compared to bands like Chris Cornell\, Alter Bridge\, and Black Stone Cherry. \n\n\n\nTheir debut EP ‘What A Time To Be Alive’ was released to critical acclaim in 2024 and followed by the live album ‘What A Time To Be Live’ with Powerplay Magazine enthusing\, “One of most refreshing and exciting sounds around” and are making waves on the live circuithaving wowed at shows and festivals alike including Firevolt and the ever popular Maid of Stone\, “a band in full command of their sound and audience” Jace Media. The sophomore EP ‘Best Medicine’ received rave reviews and gained them new fans; “Southern dirt\, pensive twists and bright 70s flair.” Classic Rock Magazine. With such accolades\, the southern UK rockers might just become your favourite new band  \n\n\n\n\n \n\n\n\n\n\n \n\n\n\n\n\n\n\n\n\n\n\n\n\n\n\n\n\n\n\n\n\n\n\n\n\n\n\n\n\n\n\n\n\n\n\n\n\n\n\n\n\n\n\n\n\n\n28TH JANUARY 2026  \n\n\n\nDOORS 7PM  \n\n\n\n \n\n\n\nTHE OLD BREWERY STORE  \n\n\n\nFAVERSHAM \n\n\n\n \n\n\n\n\n\n\n\n\n\n\n\n\n\n\n\n\n\n\n\n\n\n\n\n\n	\n		\n\n			\n			\n\n							\n					\n						Upcoming Events					\n				\n			\n			\n				\n											\n\n	\n	\n		\n			Apr		\n		\n			30		\n	\n\n\n	\n		\n			\n\n				\n					\n		\n		19:00 – 22:30	\n	\n					\n	\n		DANNY BRYANT LIVE IN FAVERSHAM	\n\n				\n\n				\n			\n		\n	\n\n\n											\n\n	\n	\n		\n			Jun		\n		\n			3		\n	\n\n\n	\n		\n			\n\n				\n					\n		\n		19:00 – 22:30	\n	\n					\n	\n		JIMMY CARPENTER LIVE AT THE OLD BREWERY STORE FAVERSHAM	\n\n				\n\n				\n			\n		\n	\n\n\n											\n\n	\n	\n		\n			Jun		\n		\n			11		\n	\n\n\n	\n		\n			\n\n				\n					\n		\n		19:30 – 22:30	\n	\n					\n	\n		AYNSLEY LISTER LIVE IN FAVERSHAM	\n\n				\n\n				\n			\n		\n	\n\n\n											\n\n	\n	\n		\n			Jun		\n		\n			24		\n	\n\n\n	\n		\n			\n\n				\n					\n		\n		19:00 – 22:30	\n	\n					\n	\n		ALASTAIR GREENE LIVE AT THE OLD BREWERY STORE\, FAVERSHAM	\n\n				\n\n				\n			\n		\n	\n\n\n											\n\n	\n	\n		\n			Sep		\n		\n			17		\n	\n\n\n	\n		\n			\n\n				\n					\n		\n		19:00 – 22:30	\n	\n					\n	\n		ALLY VENABLE LIVE AT THE OLD BREWERY STORE\, FAVERSHAM	\n\n				\n\n				\n			\n		\n	\n\n\n									\n\n				\n	\n		View Calendar
URL:https://rockinrootsevents.co.uk/event/preacher-stone-live-in-faversham/
LOCATION:THE OLD BREWERY STORE\, MILL PLACE\, FAVERSHAM\, KENT\, ME13 7DY\, United Kingdom
CATEGORIES:FAVERSHAM,THE OLD BREWERY STORE
ATTACH;FMTTYPE=image/jpeg:https://rockinrootsevents.co.uk/wp-content/uploads/2025/08/PREACHER-STONE-A4-scaled.jpg
END:VEVENT
BEGIN:VEVENT
DTSTART;TZID=UTC:20251129T190000
DTEND;TZID=UTC:20251129T223000
DTSTAMP:20260425T041932
CREATED:20250717T133600Z
LAST-MODIFIED:20251129T120435Z
UID:529-1764442800-1764455400@rockinrootsevents.co.uk
SUMMARY:BYWATER CALL LIVE IN FAVERSHAM
DESCRIPTION:PURCHASE TICKETS\n\n\n\n\nAbout the Band\n\n\n\n“The sense of a band on the brink is unmistakable.” – Classic Rock \n\n\n\n\n“Bywater Call has a very bright future. I’m sure they will evolve into one of the greatest bands in the world.” – Blues Matters \n\n\n\n\nA Powerhouse of Southern Soul \n\n\n\n Often transcending genres\, Bywater Call is known for their dynamic\, emotional live shows\, featuring powerful vocals and exciting interplay between all band members. \n\n\n\nA seven-piece Southern soul and roots rock outfit from Toronto\, Canada\, the band features the “righteous voice” of Meghan Parnell and the guitar wizardry of Dave Barnes. They are joined by Bruce McCarthy (drums)\, Mike Meusel (bass)\, John Kervin (keys)\, Stephen Dyte (trumpet)\, and Julian Nalli (tenor sax).  \n\n\n\nAward-Winning & Internationally Acclaimed In 2024\, Bywater Call was UK Blues Award nominated for International Blues Artist of the Year alongside winners Larkin Poe. They have also received multiple Independent Blues and Canadian Maple Blues Award nominations\, including Entertainer\, Electric Act\, and Best Female Vocalist. \n\n\n\nThe New Album: “Shepherd” Their newest album ”Shepherd” has garnered a slew of positive attention from fans and media alike. \n\n\n\n\n“Shepherd’s blend of rock’n’roll\, blues and Southern soul is infectious.” – R’N’R \n\n\n\n\nThe band’s music is an exploration of life’s highs and lows. From intimate ballads that lay bare the complexities of human emotion to electrifying anthems that demand to be played at full volume. \n\n\n\n\n\n\n\n\n\n\n\n\n\n\n\n\n\n\n\n\n\n\n\n\n\n\n\n29TH NOVEMBER 2025  \n\n\n\nDOORS 7PM  \n\n\n\nSHOWTIME 8:30PM  \n\n\n\nTHE OLD BREWERY STORE  \n\n\n\nFAVERSHAM \n\n\n\n \n\n\n\n\n\n\n\n\n\n\n\n\n\n\n\n\n\n\n	\n		\n\n			\n			\n\n							\n					\n						Upcoming Events					\n				\n			\n			\n				\n											\n\n	\n	\n		\n			Apr		\n		\n			30		\n	\n\n\n	\n		\n			\n\n				\n					\n		\n		19:00 – 22:30	\n	\n					\n	\n		DANNY BRYANT LIVE IN FAVERSHAM	\n\n				\n\n				\n			\n		\n	\n\n\n											\n\n	\n	\n		\n			Jun		\n		\n			3		\n	\n\n\n	\n		\n			\n\n				\n					\n		\n		19:00 – 22:30	\n	\n					\n	\n		JIMMY CARPENTER LIVE AT THE OLD BREWERY STORE FAVERSHAM	\n\n				\n\n				\n			\n		\n	\n\n\n											\n\n	\n	\n		\n			Jun		\n		\n			11		\n	\n\n\n	\n		\n			\n\n				\n					\n		\n		19:30 – 22:30	\n	\n					\n	\n		AYNSLEY LISTER LIVE IN FAVERSHAM	\n\n				\n\n				\n			\n		\n	\n\n\n											\n\n	\n	\n		\n			Jun		\n		\n			24		\n	\n\n\n	\n		\n			\n\n				\n					\n		\n		19:00 – 22:30	\n	\n					\n	\n		ALASTAIR GREENE LIVE AT THE OLD BREWERY STORE\, FAVERSHAM	\n\n				\n\n				\n			\n		\n	\n\n\n											\n\n	\n	\n		\n			Sep		\n		\n			17		\n	\n\n\n	\n		\n			\n\n				\n					\n		\n		19:00 – 22:30	\n	\n					\n	\n		ALLY VENABLE LIVE AT THE OLD BREWERY STORE\, FAVERSHAM	\n\n				\n\n				\n			\n		\n	\n\n\n											\n\n	\n	\n		\n			Oct		\n		\n			3		\n	\n\n\n	\n		\n			\n\n				\n					\n		\n		19:00 – 22:30	\n	\n					\n	\n		CLASSIC ROCK REVIVAL LIVE IN FAVERSHAM	\n\n				\n\n				\n			\n		\n	\n\n\n											\n\n	\n	\n		\n			Oct		\n		\n			16		\n	\n\n\n	\n		\n			\n\n				\n					\n		\n		19:30 – 22:30	\n	\n					\n	\n		ERJA LYYTINEN LIVE AT THE OLD BREWERY STORE\, FAVERSHAM – 2026	\n\n				\n\n				\n			\n		\n	\n\n\n											\n\n	\n	\n		\n			Nov		\n		\n			25		\n	\n\n\n	\n		\n			\n\n				\n					\n		\n		19:00 – 22:30	\n	\n					\n	\n		Cinema Stereo | Live at The Old Brewery Store	\n\n				\n\n				\n			\n		\n	\n\n\n									\n\n				\n	\n		View Calendar
URL:https://rockinrootsevents.co.uk/event/bywater-call/
LOCATION:THE OLD BREWERY STORE\, MILL PLACE\, FAVERSHAM\, KENT\, ME13 7DY\, United Kingdom
CATEGORIES:FAVERSHAM,THE OLD BREWERY STORE
ATTACH;FMTTYPE=image/jpeg:https://rockinrootsevents.co.uk/wp-content/uploads/2025/07/BYWATER-CALL-2025.jpg
END:VEVENT
BEGIN:VEVENT
DTSTART;TZID=UTC:20251113T190000
DTEND;TZID=UTC:20251113T223000
DTSTAMP:20260425T041932
CREATED:20250717T124252Z
LAST-MODIFIED:20251112T115457Z
UID:499-1763060400-1763073000@rockinrootsevents.co.uk
SUMMARY:ERROL LINTON LIVE IN FAVERSHAM
DESCRIPTION:BUY TICKETS\n\n\n\n\nSOME FIRST RELEASE TICKETS STILL AVAILABLE AT £22 INCLUDING BOOKING FEE.  \n\n\n\nSECOND RELEASE TICKETS ARE £26 INCLUDING BOOKING FEE \n\n\n\n\n\n\n\n\nGet ready for a truly special night of authentic\, award-winning blues! The incredible Errol Linton Band is set to bring their unique\, captivating sound to The Old Brewery Store in Faversham on Thursday\, 13th November 2025. \n\n\n\n\n\n\n\n\n\nFronted by the charismatic and hugely talented Errol Linton\, a three-time winner of the British Blues Award for Best Harmonica Player\, this band is a genuine force to be reckoned with. Errol’s deep\, soulful vocals and mesmerizing harmonica playing are at the heart of their sound\, drawing comparisons to blues legends while maintaining a distinctly original voice.\n\n\n\nThe Errol Linton Band recently made waves by winning the prestigious UK Blues Challenge in 2023\, earning them the honour of representing the UK at the renowned International Blues Challenge in Memphis\, USA\, in early 2024. This experience solidified their standing on the global blues scene\, showcasing their vibrant blend of Chicago blues\, reggae\, and jazz to an international audience.\n\n\n\nThey’ve graced stages from Glastonbury to Ronnie Scott’s\, earning critical acclaim and a dedicated following for their electrifying live performances. Don’t miss your chance to witness one of the UK’s most exciting and respected blues acts\, fresh from their Memphis journey\, in the intimate setting of The Old Brewery Store. This promises to be an evening of raw talent\, heartfelt music\, and undeniable rhythm. Book your tickets now for what’s sure to be a sell-out show!\n\n\n\n‘The Greatest British Blues Performing Artist’ Cerys Matthews\n\n\n\nEver since John Walters declared Errol Linton the ‘future of British Blues’ back in 1993 this Brixton born gentleman has been plying his trade and perfecting his art at home and across the world. Over the decades Errol has collaborated and played with many musical greats from the blues world and beyond including Bo Diddley\, Tony Allen\, Abram Wilson\, Doctor John\, Screaming Jay Hawkins and most recently US guitar supremo Joe Bonamassa. Linton contributes the haunting harmonica on ‘Lookout Man’ from Joe’s 2021 Grammy nominated album ‘Royal Tea’ recorded at Abbey Rd. Errol has produced several albums himself; the last two studio albums in collaboration with Brassdog records are his first on Vinyl. ‘Packing My Bags’ (‘Chess Records meets Studio One’) recorded at world famous Dean St Studios and ‘No Entry’ recorded at the equally iconic Toerag Studios have been great critical successes for Errol and his band.\n\n\n\nAfter 30 years as a singer\, songwriter and the world’s best harmonica player Errol and his exceptional band are still amongst the hardest working groups in Britain. ‘The tremendous King of the UK Blues’ ( Arcadianegra\, Spain) perform shows around the capital at least 4 times a week making The Errol Linton band the hottest\, happening gig you are likely to go to. As well as sell out shows at the Jazz Cafe & Nells this year the band have headlined many music festivals over the years including Cerys Matthews ‘Good Life Festival’ in Wales. Errol’s band comprises some of the music industry’s most sought after & respected musicians. Suffice to say\, in the words of author & journalist Garth Cartwright; ‘that Errol Linton leads the best blues band in Britain. Or\, perhaps that should read\, the best band in Britain.’
URL:https://rockinrootsevents.co.uk/event/errol-linton/
LOCATION:THE OLD BREWERY STORE\, MILL PLACE\, FAVERSHAM\, KENT\, ME13 7DY\, United Kingdom
CATEGORIES:FAVERSHAM,THE OLD BREWERY STORE
ATTACH;FMTTYPE=image/jpeg:https://rockinrootsevents.co.uk/wp-content/uploads/2025/07/errol-linton-faversham-2025-posterjpg.jpg
END:VEVENT
BEGIN:VEVENT
DTSTART;TZID=UTC:20251004T190000
DTEND;TZID=UTC:20251004T223000
DTSTAMP:20260425T041932
CREATED:20250614T172513Z
LAST-MODIFIED:20250916T120533Z
UID:89-1759604400-1759617000@rockinrootsevents.co.uk
SUMMARY:DYLAN KIRK & THE KILLERS LIVE IN FAVERSHAM
DESCRIPTION:BUY TICKETS\n\n\n\n\n\nWe are thrilled to announce that Dylan Kirk & The Killers will be playing a special homecoming gig at The Old Brewery Store\, Faversham on Saturday 4th October 2025. \n \n\nThe gig\, promoted in association with RockinRoots Events\, will be Dylan’s FIRST hometown gig with his band\, following a hugely successful 2025 debut to a sold-out capacity crowd at London’s iconic 100 Club in February. It will also mark the start of Dylan Kirk & The Killer’s first UK tour of independent venues across the country\, ending at Dingwalls on Friday 12th December.\n\n\nDespite only being in his early-20’s\, Dylan has achieved enormous success on the UK RnR/Rockabilly scene in recent years. \nHe has been recognised globally as one of the few young stars within the genre from his remarkable musical talent and mesmerising stage presence.\n\n\nSet within the magnificent grounds of Britain’s oldest brewery\, Shepherd Neame\, the Old Brewery Store is one of Kent’s most unique & special venues\, nestled in the medieval market town of Faversham.\n\n\nSpeaking of the announcement\, Dylan said: “It’s an absolute honour and thrill to be performing back in my hometown after many years of travelling around the UK & Europe. I began my musical journey here in Faversham busking on the high street with a piano doing solo performances to the community! 8 years later I’ll be back with a full band ready for an exclusive show for you all!”\n\n\nExpect to be taken back to a different era\, where proper Rock ‘n’ Roll was performed live & enthusiastically by musicians who live & breathe the genre. This isn’t a cheesy cliché 1950s tribute show – this is a Dylan Kirk & The Killers show with a combination of originals & covers – one of the most unique and impressive live bands you’ll have the chance to see\, a show reminiscent of ivory-pounding giants from a different era \n\n\nThis is set to be an incredible memorable gig for Dylan\, held in a remarkable venue in his hometown surrounded by friends & family. Join us in Faversham on Saturday 4th October as Dylan Kirk & The Killers deliver 2 full sets of astounding piano-driven Rock N Roll.\n \n\n\n\n\n\n\n\n\n\n\n\nCLICK HERE FOR MORE SHOWS FROM ROCKIN’ ROOTS EVENTS
URL:https://rockinrootsevents.co.uk/event/dylan-kirk-the-killers/
LOCATION:THE OLD BREWERY STORE\, MILL PLACE\, FAVERSHAM\, KENT\, ME13 7DY\, United Kingdom
CATEGORIES:FAVERSHAM,THE OLD BREWERY STORE
ATTACH;FMTTYPE=image/jpeg:https://rockinrootsevents.co.uk/wp-content/uploads/2025/06/DYLAN-FAVERSHAM-UPDATED-1-scaled.jpg
END:VEVENT
BEGIN:VEVENT
DTSTART;TZID=UTC:20250904T190000
DTEND;TZID=UTC:20250904T223000
DTSTAMP:20260425T041932
CREATED:20250613T082947Z
LAST-MODIFIED:20250802T180512Z
UID:56-1757012400-1757025000@rockinrootsevents.co.uk
SUMMARY:DOUBLE HEADLINER : REVENANT PLUS AK & THE RED KITES
DESCRIPTION:BUY TICKETS\n\n\n\n\n\n\n\n\nRockin Roots Events presents a very special double bill of exciting rock vibess  at The Old Brewery Store in Faversham\, Kent\n\n\n\n\n \n\n\n\nREVENANT are known for a “huge rock sound with a southern spin”\n\n\n\nand have been compared to rock bands like Chris Cornell\, Alter Bridge\, and Black Stone Cherry\n\n\n\nBand members are  Sam Lay (vocals/guitar)\, Matthew Hudson (guitar)\, Robin Nutley (bass)\, and Carl Donoghue (drums).\n\n\n\n‘ONE OF THE MOST REFRESHING AND EXCITING SOUNDS AROUND’\n\n\n\nPowerplay Magazine\n\n\n\nFormed in 2023\, Revenant brings a huge rock sound with a southern spin\, their debut EP ‘What A Time To Be Alive’ was released to critical acclaim in May 2024. The band are making waves on the live circuit having wowed at shows and festivals alike including Firevolt\, all reflected in their live album release ‘What A Time To Be Live’ with Backseat Mafia stating\n\n\n\n“One of the best guitar releases of the year” and Powerplay Magazine enthusing “One of most refreshing and exciting sounds around”. With such accolades\, the southern UK rockers might just become your favourite new band.\n\n\n\nThe high octane 4 piece collectively have influences spanning from Guns & Roses\, Lynyrd Skynyrd and Blackberry Smoke through to Metallica. With this heady mixture\, you can anticipate a truly captivating sound from these rising rockers. The band soon hit the ground running and released their first single\, ‘Coming Back To Life’ which immediately pricked ears and attracted strong streaming numbers. The follow up single ‘The Masquerade’ flew just as high\, racking up airplay from across the globe pulling in favorable comparisons to rock household names from Chris Cornell and Alter Bridge through to Black Stone Cherry.\n\n\n\nNever ones to disappoint\, Revenant are bringing their message to the masses that this isn’t just a bit of fun. This is real life with stories of hope\, love and life\, the good\, the bad and the ugly and will be releasing music and touring throughout 2025. \n\n\n\n \n\n\n\n\n\n\n\n\n\n\n\n\n\n\n\n\n\n\n\n\n\n\n\n\n\n\n\n\n\nAK & The Red Kites Is A Modern Rock Band With A Retro Infused Vibe Bearing Big Riffs And Vast Melodic Soundscapes. \n\n\n\nThe Cornerstone Of This New Exciting Venture Is Frontman/Guitarist Andrew Knightley\, Rising From The Ashes Of His Previous Band Blues Rockers Trident Waters. \n\n\n\nHaving Eloped To The Chiltern Hills UK During The Global Pandemic\, Andrew Began Writing Songs That Would Shape The Project To Come. He Muses\, “I Wrote Most Of My New Music Looking Out The Window Onto The Woods And The Red Kites Are Always Circling Overhead. I Felt A Connection\, That They Were Part Of My Inspiration\, As They Glided Across The Sky Crying And Going About Their Business. I Wanted To Honour That Sense Of Freedom And Protection That They Have Provided Me With. AK & The Red Kites Is A Direct Reference To My Creative Process And Where I Am Now As A Person.” \n\n\n\nWorking With Multi-Platinum Award Winning Producer Mike Krompass (Everybody Loves An Outlaw)\, The Forthcoming Releases Will Showcase Knightleys Eclectic Range As A Songwriter And Musician; Ranging From Full On High Tempo Hard Rockers To Panoramic Swamp Vibes With Incursions Into Country And Blues Rock Territory In The Vein Of Rival Sons\, Greta Van Fleet And ZZ Top. “There Were About 25 Tracks Demoed And Initially There Were Only Going To Be 10 Recorded. As The Process Went On We Decided To Stretch That To 16 As There Were Too Many Strong Tracks To Whittle It Down. It’s A Really Exciting Project And I Can’t Wait For The World To Hear What’s Been Cooking!” With Audiences Also Promised A Visually Striking Experience When The Full Band Take To The Stage\, AK & The Red Kites Is Perched To Soar Throughout 2024 And Beyond.
URL:https://rockinrootsevents.co.uk/event/double-headliner-revenant-plus-ak-the-red-kites/
LOCATION:THE OLD BREWERY STORE\, MILL PLACE\, FAVERSHAM\, KENT\, ME13 7DY\, United Kingdom
CATEGORIES:FAVERSHAM,THE OLD BREWERY STORE
ATTACH;FMTTYPE=image/jpeg:https://rockinrootsevents.co.uk/wp-content/uploads/2025/06/AK-REV-2025.jpg
END:VEVENT
END:VCALENDAR