BEGIN:VCALENDAR
VERSION:2.0
PRODID:-//ROCKIN&#039; ROOTS EVENTS - ECPv6.15.20//NONSGML v1.0//EN
CALSCALE:GREGORIAN
METHOD:PUBLISH
X-WR-CALNAME:ROCKIN&#039; ROOTS EVENTS
X-ORIGINAL-URL:https://rockinrootsevents.co.uk
X-WR-CALDESC:Events for ROCKIN&#039; ROOTS EVENTS
REFRESH-INTERVAL;VALUE=DURATION:PT1H
X-Robots-Tag:noindex
X-PUBLISHED-TTL:PT1H
BEGIN:VTIMEZONE
TZID:Europe/Paris
BEGIN:DAYLIGHT
TZOFFSETFROM:+0100
TZOFFSETTO:+0200
TZNAME:CEST
DTSTART:20250330T010000
END:DAYLIGHT
BEGIN:STANDARD
TZOFFSETFROM:+0200
TZOFFSETTO:+0100
TZNAME:CET
DTSTART:20251026T010000
END:STANDARD
BEGIN:DAYLIGHT
TZOFFSETFROM:+0100
TZOFFSETTO:+0200
TZNAME:CEST
DTSTART:20260329T010000
END:DAYLIGHT
BEGIN:STANDARD
TZOFFSETFROM:+0200
TZOFFSETTO:+0100
TZNAME:CET
DTSTART:20261025T010000
END:STANDARD
BEGIN:DAYLIGHT
TZOFFSETFROM:+0100
TZOFFSETTO:+0200
TZNAME:CEST
DTSTART:20270328T010000
END:DAYLIGHT
BEGIN:STANDARD
TZOFFSETFROM:+0200
TZOFFSETTO:+0100
TZNAME:CET
DTSTART:20271031T010000
END:STANDARD
END:VTIMEZONE
BEGIN:VEVENT
DTSTART;TZID=Europe/Paris:20260510T193000
DTEND;TZID=Europe/Paris:20260510T214500
DTSTAMP:20260424T213224
CREATED:20260107T120623Z
LAST-MODIFIED:20260412T122328Z
UID:1387-1778441400-1778449500@rockinrootsevents.co.uk
SUMMARY:SEAN WEBSTER BAND LIVE IN BROMLEY
DESCRIPTION:  \n\n\n\n\n\n\n\n\n\n\nPURCHASE TICKETS\n\n\n\n\nSEAN WEBSTER BAND LIVE AT BROMLEY BLUES CLUB\n\n\n\nGet ready for a night of raw soul and blistering blues-rock as Sean Webster brings his acclaimed live show to the intimate setting of the Bromley Blues Club. \n\n\n\nHailed as one of the most compelling vocalists on the scene\, Webster’s gravel-and-soul voice has drawn comparisons to the legendary Joe Cocker\, while his guitar playing—inspired by masters like Eric Clapton and the ‘Three Kings’—delivers melodic fire and heartfelt emotion in every note. \n\n\n\nFollowing the success of his recent albums\, including the soulful “Summer Has Gone\,” this is a rare chance to experience an artist at the peak of his powers. Webster is a true showman who wears his heart on his sleeve\, connecting with his audience through powerful songwriting and a dynamic stage presence. \n\n\n\nDon’t miss this performance in a venue built for true music lovers. Join us at the historic Bromley Blues Club for a night of world-class\, modern blues that will stay with you long after the last note fades. \n\n\n\n\n  \n\n\n\n\n\n  \n\n\n\n\n\n\n\n\n10TH MAY 2026 \n\n\n\nDOORS 7PM \n\n\n\nSHOWTIME 7:30PM \n\n\n\nSHOW FINISH 9:45PM \n\n\n\nBROMLEY LITTLE THEATRE \n\n\n\nBROMLEY \n\n\n\n\n\n\nhttps://open.spotify.com/artist/1cuwTMD5wxKeHjFxHivRYU?si=Lq63P7A4Tu-jMSdid3uESg\n\n\n\n\n\nhttps://open.spotify.com/artist/67CutLTcB1xaG7it6mutbT?si=Ie1n1Kz_QRyXaXuRwB60Lg
URL:https://rockinrootsevents.co.uk/event/sean-webster-band-live-in-bromley/
LOCATION:BROMLEY BLUES CLUB\, BROMLEY LITTLE THEATRE\, NORTH STREET\, BROMLEY\, LONDON\, BR1 1SB\, United Kingdom
CATEGORIES:BLUES,BLUES ROCK,BROMLEY BLUES CLUB,BROMLEY LITTLE THEATRE,LIVE MUSIC,LONDON
ATTACH;FMTTYPE=image/jpeg:https://rockinrootsevents.co.uk/wp-content/uploads/2026/01/SEAN-WEBSTER-26-scaled.jpg
END:VEVENT
BEGIN:VEVENT
DTSTART;TZID=Europe/Paris:20260607T193000
DTEND;TZID=Europe/Paris:20260607T214500
DTSTAMP:20260424T213224
CREATED:20260311T200106Z
LAST-MODIFIED:20260324T195751Z
UID:1739-1780860600-1780868700@rockinrootsevents.co.uk
SUMMARY:JIMMY CARPENTER LIVE AT BROMLEY BLUES CLUB
DESCRIPTION:JIMMY CARPENTER LIVE AT BROMLEY BLUES CLUB! 🎷\n\n\n\nBromley\, prepare for an evening of world-class musicianship as we welcome the “Saxophone Maestro” himself\, Jimmy Carpenter\, to the intimate stage of Bromley Little Theatre. On Sunday\, 7th June 2026\, the Bromley Blues Club brings the heat of the Las Vegas strip directly to our town. A Grammy winner and multi-Blues Music Award recipient\, Jimmy is a true industry titan currently “hitting on all cylinders” following his chart-topping release\, Just Got Started. \n\n\n\nSECURE YOUR SPOT: This is a rare opportunity to catch a global blues legend in the uniquely intimate\, 100 seat setting of our theatre. Given Jimmy’s international schedule as the Musical Director of the Big Blues Bender\, a UK appearance of this caliber is a major event and tickets are strictly limited. To guarantee your entry—we strongly recommend booking in advance. This show will be a landmark date for the club; don’t miss the “Soul Doctor” in action. \n\n\n\n\nGET TICKETS\n\n\n\n\n\n\n\n\nDATE\n\n\n\nSUNDAY 7TH JUNE 2026 \n\n\n\n\n\n\n\n\nDOORS\n\n\n\n7:00 PM \n\n\n\n\n\n\n\nVENUE\n\n\n\nBROMLEY BLUES CLUB \n\n\n\n\n\n\n\nTICKETS\n\n\n\nFROM £20 \n\n\n\n\n\n\n\n\n\n\n\n\n\n\n\n\n\n\n\n\n\n\n\n\n\n\n\n\n\n\n\n \n\n\n\n\n\n\n\n\nA GRAMMY-WINNING BLUES PHENOMENON! 🎷\n\n\n\nWith over 40 years on the road\, Jimmy Carpenter has toured with legends like Tinsley Ellis and Walter “Wolfman” Washington. For this exclusive Bromley date\, he brings the “funky-cool” vintage soul vibe that has earned him 10 Blues Music Award nominations. \n\n\n\n\nSoulful Vocals & Masterful Saxophone Soloing \n\n\n\n Hits from the Billboard-charting album Just Got Started\n\n\n\nA “Funky-Cool” blend of Blues\, R&B\, and Vintage Soul \n\n\n\nThe impeccable musicianship of a true Industry Titan\n\n\n\nA high-octane blend of New Orleans Soul and Rock-n-Roll R&B\n\n\n\nThe impeccable energy of the Las Vegas Blues Society President\n\n\n\n\nBromley Blues Club is held at the beautiful Bromley Little Theatre\, a fully accessible\, air-conditioned venue with a licensed bar offering reasonable prices. This is blues as it was meant to be heard—up close\, personal\, and world-class. \n\n\n\n“Jimmy Carpenter perfectly captures that funky-cool\, New Orleans-infused soul that keeps audiences coming back for more.” — The Big Blues Bender\n\n\n\n\n\n\n\n\n📅 Date: Sunday\, 7th June 2026\n\n\n\n🕖 Doors: 6:30 PM | Show: 7:30 PM\n\n\n\n📍 Venue: Bromley Little Theatre\, North St\, Bromley\n\n\n\n🎫 Tickets: £20 Advance \n\n\n\n\n\n🎫 SECURE YOUR TICKETS
URL:https://rockinrootsevents.co.uk/event/jimmy-carpenter-live-at-bromley-blues-club/
LOCATION:BROMLEY BLUES CLUB\, BROMLEY LITTLE THEATRE\, NORTH STREET\, BROMLEY\, LONDON\, BR1 1SB\, United Kingdom
CATEGORIES:BLUES,BROMLEY,BROMLEY BLUES CLUB,BROMLEY LITTLE THEATRE,LIVE MUSIC
ATTACH;FMTTYPE=image/webp:https://rockinrootsevents.co.uk/wp-content/uploads/2026/03/A5-PORTRAIT-JIMMY-CARPENTER-2026-BROMLEY.webp
END:VEVENT
BEGIN:VEVENT
DTSTART;TZID=Europe/Paris:20261011T193000
DTEND;TZID=Europe/Paris:20261011T214500
DTSTAMP:20260424T213224
CREATED:20260226T203523Z
LAST-MODIFIED:20260324T200026Z
UID:1616-1791747000-1791755100@rockinrootsevents.co.uk
SUMMARY:MARTIN HARLEY LIVE AT BROMLEY BLUES CLUB
DESCRIPTION:PURCHASE TICKETS\n\n\n\n\nMARTIN HARLEY LIVE AT BROMLEY BLUES CLUB\n\n\n\nMartin Harley is celebrated as “One of the UK’s finest contemporary roots musicians” (Guitarist Magazine) and a “slide guitar master” (Roots Magazine). Known for his spellbinding slide guitar and ability to blend Americana\, Blues\, and Folk\, Harley has captivated audiences for three decades\, recording albums in Texas\, Nashville\, and Wales. \n\n\n\nHis sold-out shows at venues like London’s Union Chapel and appearances at Glastonbury and the Royal Albert Hall highlight his dynamic stage presence. His music has featured on TV shows like The Vampire Diaries and Banshee and in live segments on PBS’s Music City Roots. Harley has collaborated with icons like Jerry Douglas and Grammy winner Derek Mixon\, and his album Static in the Wires reached #2 on the iTunes Blues charts. \n\n\n\nHis latest release\, Morning Sun\, produced by Nigel Stonier\, showcases his finest songwriting to date\, with inventive contributions from Michael Blair\, Mark Lewis\, and Chris (CJ) Hillman. Harley’s heartfelt music continues to push boundaries in contemporary roots. \n\n\n\nHarley is the master of the bottleneck slide guitar\, *****BLACK DEER FESTIVALHarley has it all – voice\, guitar artistry and the songs.TOTAL MUSICQuite simply a great live act.TIME OUT LONDONNo doubt that he is a slide guitar master. He is the business.ROOTS MAGAZINEOne of the UK’s finest contemporary roots musicians.GUITARIST MAGAZINE \n\n\n\n\n\n\n\n\n\n11TH OCTOBER 2026 \n\n\n\nDOORS 6:30PM  \n\n\n\nSHOWTIME 7:30PM  \n\n\n\nBROMLEY BLUES CLUB \n\n\n\nBROMLEY
URL:https://rockinrootsevents.co.uk/event/martin-harley-live-at-bromley-blues-club/
LOCATION:BROMLEY BLUES CLUB\, BROMLEY LITTLE THEATRE\, NORTH STREET\, BROMLEY\, LONDON\, BR1 1SB\, United Kingdom
CATEGORIES:BLUES,BROMLEY,BROMLEY BLUES CLUB,BROMLEY LITTLE THEATRE,LIVE MUSIC,LONDON
ATTACH;FMTTYPE=image/webp:https://rockinrootsevents.co.uk/wp-content/uploads/2026/02/MARTIN-HARLEY-2026-A4-A4.webp
END:VEVENT
BEGIN:VEVENT
DTSTART;TZID=Europe/Paris:20261206T193000
DTEND;TZID=Europe/Paris:20261206T214500
DTSTAMP:20260424T213224
CREATED:20260225T183202Z
LAST-MODIFIED:20260324T200000Z
UID:1583-1796585400-1796593500@rockinrootsevents.co.uk
SUMMARY:Bromley Blues Club: The Blues Summit | Dec 6th 2026
DESCRIPTION:𝖳𝖧𝖤 𝖡𝖫𝖴𝖤𝖲 𝖲𝖴𝖬𝖬𝖨𝖳\n\n\n\nAfter the incredible SOLD OUT success of last year’s summit\, Bromley Blues Club is doing it again! On Sunday\, 6th December\, we’re bringing together five titans of the scene for a one-night-only “Blues Summit” at Bromley Little Theatre. \n\n\n\nDON’T WAIT: Last year’s show was packed to the rafters\, and with this lineup\, tickets won’t last long. \n\n\n\n\nGET TICKETS\n\n\n\n\n\n\n\n\nDATE\n\n\n\nSUNDAY 6 DECEMBER 2026 \n\n\n\n\n\n\n\n\nDOORS\n\n\n\n6:30PM \n\n\n\n\n\n\n\nVENUE\n\n\n\nBROMLEY LITTLE THEATRE \n\n\n\n\n\n\n\nTICKETS\n\n\n\nFROM £22 \n\n\n\n\n\n\n\n\n\n\n\n\n\n\n\n\n\n\n\n\n\n\n\n\n\n\n\n\n\n\n\n\n\n\n\n\n\n“Last year was packed to the rafters for a reason. This isn’t just a ‘Blues Summit’—it’s a rare gathering of the genre’s elite. If you missed the last one\, don’t make the same mistake twice; this is world-class Blues in an intimate setting.” \n\n\n\n\n\n\n\n\nThe 2026 Blues Supergroup\n\n\n\nFollowing the tradition of the great collaborative sessions of the 50s and 60s\, we have assembled a one-off powerhouse lineup. This isn’t just a concert; it’s a gathering of the finest pedigree in British and International Blues. \n\n\n\n\nDave Kelly (The Blues Band): A true titan of the genre. As a founding member of the legendary The Blues Band and a performer alongside icons like James Burton and Buddy Guy\, Dave’s slide guitar and soulful vocals are the gold standard of British Blues.\n\n\n\nAlan Glen (The Yardbirds / Nine Below Zero): One of the world’s finest harmonica players. With a CV that includes The Yardbirds\, Nine Below Zero\, and recording sessions with Jeff Beck and Slash\, Alan brings a masterclass in tone and phrasing to the Summit.\n\n\n\nOli Mississippi MacDonald (3x UK Blues Award Winner): Representing the new generation of soul-blues masters. A 3-time UK Blues Award winner\, his stinging guitar style and Memphis-rooted sound have earned him international acclaim and heavy rotation on BBC Radio 2.\n\n\n\nLucy Piper (Authentic Mississippi Blues Powerhouse): Daughter of blues legend Julian Piper\, Lucy spent her formative years in the juke joints of the Deep South. Her drumming is the definition of “the pocket”—authentic\, driving\, and steeped in Mississippi tradition.\n\n\n\nBrent Cundall (Nashville-born Rhythm Specialist): Bringing the authentic American low-end. Nashville-born Brent provides the rock-solid foundation that allows this supergroup to soar.\n\n\n\n\n \n\n\n\nThis is a Blues supergroup not to miss!\n\n\n\n\n\n\n📅 Date: Sunday 6th December 2026\n\n\n\n🕖 Doors: 6:30 PM\n\n\n\n📍 Venue: Bromley Little Theatre\, North St\, BR1 1SB\n\n\n\n🎫 Tickets: £22 Advance (Selling Fast)\n\n\n\n\n\n🎫 SECURE YOUR TICKETS
URL:https://rockinrootsevents.co.uk/event/the-blues-summit-at-bromley-blues-club/
LOCATION:BROMLEY BLUES CLUB\, BROMLEY LITTLE THEATRE\, NORTH STREET\, BROMLEY\, LONDON\, BR1 1SB\, United Kingdom
CATEGORIES:BLUES,BROMLEY,BROMLEY BLUES CLUB,BROMLEY LITTLE THEATRE,LIVE MUSIC,LONDON
ATTACH;FMTTYPE=image/webp:https://rockinrootsevents.co.uk/wp-content/uploads/2026/02/THE-BLUES-SUMMIT-2026-A4-4.webp
END:VEVENT
END:VCALENDAR