BEGIN:VCALENDAR
VERSION:2.0
PRODID:-//ROCKIN&#039; ROOTS EVENTS - ECPv6.15.20//NONSGML v1.0//EN
CALSCALE:GREGORIAN
METHOD:PUBLISH
X-ORIGINAL-URL:https://rockinrootsevents.co.uk
X-WR-CALDESC:Events for ROCKIN&#039; ROOTS EVENTS
REFRESH-INTERVAL;VALUE=DURATION:PT1H
X-Robots-Tag:noindex
X-PUBLISHED-TTL:PT1H
BEGIN:VTIMEZONE
TZID:Europe/Paris
BEGIN:DAYLIGHT
TZOFFSETFROM:+0100
TZOFFSETTO:+0200
TZNAME:CEST
DTSTART:20250330T010000
END:DAYLIGHT
BEGIN:STANDARD
TZOFFSETFROM:+0200
TZOFFSETTO:+0100
TZNAME:CET
DTSTART:20251026T010000
END:STANDARD
BEGIN:DAYLIGHT
TZOFFSETFROM:+0100
TZOFFSETTO:+0200
TZNAME:CEST
DTSTART:20260329T010000
END:DAYLIGHT
BEGIN:STANDARD
TZOFFSETFROM:+0200
TZOFFSETTO:+0100
TZNAME:CET
DTSTART:20261025T010000
END:STANDARD
BEGIN:DAYLIGHT
TZOFFSETFROM:+0100
TZOFFSETTO:+0200
TZNAME:CEST
DTSTART:20270328T010000
END:DAYLIGHT
BEGIN:STANDARD
TZOFFSETFROM:+0200
TZOFFSETTO:+0100
TZNAME:CET
DTSTART:20271031T010000
END:STANDARD
END:VTIMEZONE
BEGIN:VEVENT
DTSTART;TZID=Europe/Paris:20260116T190000
DTEND;TZID=Europe/Paris:20260116T224500
DTSTAMP:20260425T140758
CREATED:20250804T191204Z
LAST-MODIFIED:20260104T185408Z
UID:615-1768590000-1768603500@rockinrootsevents.co.uk
SUMMARY:THE INTERNATIONAL BLUES ALL-STARS LIVE IN FAVERSHAM
DESCRIPTION:The legendary Curtis Salgado\, winner of eleven Blues Music Awards and the coveted B.B. King Entertainer Of The Year award\, brings his sound to The Old Brewery Store in Faversham on Friday\, 16th January 2026. \n\n\n\n\n\n\n\n\n\n\nPURCHASE TICKETS\n\n\n\n\nTHE INTERNATIONAL BLUES ALL-STARS\n\n\n\nKnown for his powerful\, soulful vocals and masterful harmonica playing\, Curtis Salgado is a true giant of the blues world. DownBeat Magazine calls his songwriting skills “an impressive gift\,” and Billboard hails his music as “inspired and powerful.” His storied career is the stuff of legend; he famously inspired John Belushi’s “Blues Brothers” character and has been hailed by critics as “one of the most soulful\, honest singers ever.” \n\n\n\nFor this special UK show\, he will be joined by the incredible Giles Robson Band\, a perfect match with their high-energy\, harmonica-driven sound. But that’s not all—we’re also thrilled to welcome very special guests\, two of the UK’s finest blues talents: the brilliant guitarist Mississippi MacDonald and the superb vocalist Robbin Kaspalis.\n\n\n\nThis is a rare opportunity to see a living blues legend on an intimate stage\, backed by some of the best musicians in the business. An evening of pure\, authentic blues and soul awaits!\n\n\n\nDon’t miss Curtis Salgado and the Giles Robson Band\, with special guests Mississippi MacDonald & Robbin Kapalis\, live in Faversham. \n\n\n\nBook your tickets now!\n\n\n\n \n\n\n\nCurtis Salgado\n\n\n\n“The Man Who Taught the Blues Brothers to Sing” A true giant of the genre\, Curtis Salgado’s career is the stuff of legend. An award-winning vocalist and harmonica master\, he famously mentored John Belushi during the filming of Animal House\, directly inspiring the creation of The Blues Brothers characters. But his legacy goes far beyond Hollywood; Salgado is a powerhouse performer in his own right. He is a multiple Blues Music Award winner\, having taken home the most coveted titles in the industry\, including B.B. King Entertainer of the Year\, Soul Blues Artist of the Year\, and Song of the Year. Billboard magazine hails his music as “inspired and powerful\,” while NPR calls him “an icon with a huge voice.” Do not miss the chance to see this living piece of music history on a UK stage. \n\n\n\nThe Giles Robson Band\n\n\n\n“The UK’s International Harmonica Virtuoso” Giles Robson is a trailblazer in the blues world. He is the first and only UK or European artist to appear on Chicago’s legendary Alligator Records\, a label that described him as “a blues giant.” His incredible talent on the harp led him to become one of only three British artists—alongside Eric Clapton and Peter Green—to win a prestigious Blues Music Award in Memphis (the Grammys of the Blues). Known for his high-energy\, sweat-soaked performances\, Robson consistently tops critics’ polls in Mojo\, Living Blues\, and DownBeat. If you want to witness a master at the height of his powers\, this is the set to watch. \n\n\n\nSpecial Guest: Mississippi MacDonald\n\n\n\n“The Future of British Soul-Blues” Joining the bill is one of the UK’s finest contemporary talents\, Mississippi MacDonald. A three-time UK Blues Awards winner (including Acoustic Blues Artist of the Year)\, MacDonald has been earning rave reviews on both sides of the Atlantic. Guitarist Magazine praises his playing as “legitimate blues\,” while Blues Blast Magazine (USA) calls him “one of the most soulful vocalists in Europe.” With a sound that blends the deep roots of Memphis soul with modern blues grit\, MacDonald is widely tipped as the next big thing in the British blues explosion. \n\n\n\nSpecial Guest: Robbin Kapsalis\n\n\n\n“The Soul Shaker” Completing this stellar lineup is the dynamic vocalist Robbin Kapsalis. A Chicago native with a voice steeped in the rich musical heritage of the South Side\, Kapsalis is a force of nature. Fronting Vintage #18\, she earned a Blues Blast Music Award nomination for New Artist Debut Album and has been praised by Living Blues for her “commanding voice.” Known as the “Soul Shaker\,” her stage presence is electric\, channeling the raw power of Koko Taylor with the sultry delivery of a classic jazz diva. She is the perfect addition to an evening of world-class music. \n\n\n\n\n\n\n\n\n\n\n\nFURTHER DETAILS ON THE HISTORY OF CURTIS SALGADO \n\n\n\n\n\n\n\nWhatever songs Curtis Salgado brings to the table are going to have his personal soul stamp on them. It’s the singer’s magic bullet\, the key element that stirs listeners and sets Salgado apart as one of the most riveting performers on stage today.\n\n\n\nBorn in 1954\, Salgado grew up in Eugene\, Oregon with music all around him. His parents’ vast music collection included everything from Fats Waller to Ray Charles\, and his older brother and sister turned him on to the soul and blues of Wilson Pickett and Muddy Waters at an early age. He attended a Count Basie performance when he was 13 and decided then and there that music was his calling. After getting his hands on a harmonica\, Curtis began devouring the blues of Little Walter and Paul Butterfield\, and taught himself to play.\n\n\n\nBy his early 20s he was already making a name for himself in Eugene’s bar scene\, first as the vocalist/harmonica player of The Nighthawks\, and later as co-leader of The Robert Cray Band. Salgado quickly developed into a player and singer of remarkable depth\, with vocal and musical influences including Otis Redding\, O.V. Wright\, Muddy Waters\, Little Walter\, Sonny Boy Williamson I and II\, Lightnin’ Hopkins and Howlin’ Wolf.\n\n\n\nIn 1977\, comedian/actor John Belushi was in Eugene filming Animal House. During downtime from production\, Belushi caught a typically ferocious Salgado performance and introduced himself during a break. Once Salgado started sharing some of his blues knowledge\, a fast friendship grew. Salgado spent hours playing old records for Belushi\, teaching him about blues and R&B. Belushi soaked up the music like a sponge and used his new awareness to portray “Joliet” Jake Blues in The Blues Brothers\, first as a skit on Saturday Night Live\, then a best-selling record album (which was dedicated to Curtis) and finally as a major motion picture (Cab Calloway’s character in the film was named Curtis as an homage).\n\n\n\nOnce Salgado joined forces with his friend Robert Cray and began playing together as The Robert Cray Band\, he found himself sharing stages with many of his heroes\, including Muddy Waters\, Bobby Bland\, Albert Collins and Bonnie Raitt. After Salgado and Cray parted ways in 1982\, Curtis went on to front Roomful Of Blues\, singing and touring with them from 1984 through 1986. Back home in Oregon\, he formed a new band\, Curtis Salgado & The Stilettos\, and was once again tearing it up on the club scene. He honed his band to a razor’s edge before releasing his debut in 1991 on the JRS label. After recordings for Rhythm Safari and Lucky Records\, Salgado signed withShanachie Records in 1999\, releasing four critically acclaimed albums. Salgado’s Alligator Records debut\, Soul Shot\, came out in 2012 to widespread critical acclaim. Blues Revue said Salgado’s music is “triumphant\, joyful\, blues-soaked R&B” and declared him to be “one of the most soulful\, honest singers ever.” He followed up with The Beautiful Lowdown in 2016 and Rough Cut\, the potent\, stripped-down acoustic album (with guitarist Alan Hager) in 2018. The albums collectively earned Salgado multiple Blues Music Awards—for B.B. King Entertainer Of The Year\, Soul Blues Album Of The Year\, Song Of The Year and Soul Blues Male Artist Of The Year. \n\n\n\n\n\n\n\n\n\n\n\n\n\n\n\n\n\n\n\n\n\n\n\n\n\n\n\n\n\n\n\n\n\n16TH JANUARY 2026  \n\n\n\nDOORS 7PM  \n\n\n\nSHOWTIME 7:30PM  \n\n\n\nTHE OLD BREWERY STORE  \n\n\n\nFAVERSHAM
URL:https://rockinrootsevents.co.uk/event/curtis-salgado-usa/
LOCATION:THE OLD BREWERY STORE\, MILL PLACE\, FAVERSHAM\, KENT\, ME13 7DY\, United Kingdom
CATEGORIES:BLUES,FAVERSHAM,KENT,THEN OLD BREWERY STORE
ATTACH;FMTTYPE=image/jpeg:https://rockinrootsevents.co.uk/wp-content/uploads/2025/08/THE-INTERNATIONAL-BLUES-ALL-STARS.jpg
END:VEVENT
BEGIN:VEVENT
DTSTART;TZID=Europe/Paris:20260128T190000
DTEND;TZID=Europe/Paris:20260128T223000
DTSTAMP:20260425T140758
CREATED:20250827T125643Z
LAST-MODIFIED:20251224T152339Z
UID:662-1769626800-1769639400@rockinrootsevents.co.uk
SUMMARY:PREACHER STONE LIVE IN FAVERSHAM
DESCRIPTION:By The Horns UK Tour 2026 – Special Guests Revenant \n\n\n\n\n\n\n\n\n\n\n\n\nPURCHASE TICKETS\n\n\n\n\n\n\n\n\nPREACHER STONE LIVE IN FAVERSHAM !!!! \n\n\n\nPREACHER STONE \n\n\n\nKicking boots out of North Carolina USA\, Preacher Stone’s high-octane\, 200 proof\, rock-n-roll guitar-driven songs about the common man with heart-wrenching smoky bar frequenting tales and the swagger of their live performances have earned them a legion of faithful fans known as“The Congregation”. \n\n\n\nHaving endeavoured through adversity in the past the brotherhood of the band is steeped in musical heritage\, previously their song ‘Not Today’ was featured on two seasons of the hit TV series Sons of Anarchy and lengthy tours include across the United States\, UK and Europe sharing stages with legendary household names such as Lynyrd Skynyrd\, ZZ Top\, Deep Purpleand more to rapturous acclaim from fans and critics alike.  \n\n\n\nThe most recent album ‘V’ was released in 2024 garnering stellar reviews across the board including Maximum Volume Music confirming “Authentic to their very core. 8.5/10”\, Metal Talk stating it’s “An album that demandsattention” and Emerging Rock Bands imploring listeners to “Enjoy a proper rock and roll party. 9/10.” Their highly anticipated new album ‘By The Horns’ released October 17 2025 to rave reviews. \n\n\n\nREVENANT \n\n\n\nRevenant brings a huge rock sound with a southern spin and have been compared to bands like Chris Cornell\, Alter Bridge\, and Black Stone Cherry. \n\n\n\nTheir debut EP ‘What A Time To Be Alive’ was released to critical acclaim in 2024 and followed by the live album ‘What A Time To Be Live’ with Powerplay Magazine enthusing\, “One of most refreshing and exciting sounds around” and are making waves on the live circuithaving wowed at shows and festivals alike including Firevolt and the ever popular Maid of Stone\, “a band in full command of their sound and audience” Jace Media. The sophomore EP ‘Best Medicine’ received rave reviews and gained them new fans; “Southern dirt\, pensive twists and bright 70s flair.” Classic Rock Magazine. With such accolades\, the southern UK rockers might just become your favourite new band  \n\n\n\n\n \n\n\n\n\n\n \n\n\n\n\n\n\n\n\n\n\n\n\n\n\n\n\n\n\n\n\n\n\n\n\n\n\n\n\n\n\n\n\n\n\n\n\n\n\n\n\n\n\n\n\n\n\n28TH JANUARY 2026  \n\n\n\nDOORS 7PM  \n\n\n\n \n\n\n\nTHE OLD BREWERY STORE  \n\n\n\nFAVERSHAM \n\n\n\n \n\n\n\n\n\n\n\n\n\n\n\n\n\n\n\n\n\n\n\n\n\n\n\n\n	\n		\n\n			\n			\n\n							\n					\n						Upcoming Events					\n				\n			\n			\n				\n											\n\n	\n	\n		\n			Apr		\n		\n			30		\n	\n\n\n	\n		\n			\n\n				\n					\n		\n		19:00 – 22:30	\n	\n					\n	\n		DANNY BRYANT LIVE IN FAVERSHAM	\n\n				\n\n				\n			\n		\n	\n\n\n											\n\n	\n	\n		\n			May		\n		\n			30		\n	\n\n\n	\n		\n			\n\n				\n					\n		\n		19:30 – 22:30	\n	\n					\n	\n		STRAY LIVE AT THE OLD BREWERY STORE	\n\n				\n\n				\n			\n		\n	\n\n\n											\n\n	\n	\n		\n			Jun		\n		\n			3		\n	\n\n\n	\n		\n			\n\n				\n					\n		\n		19:00 – 22:30	\n	\n					\n	\n		JIMMY CARPENTER LIVE AT THE OLD BREWERY STORE FAVERSHAM	\n\n				\n\n				\n			\n		\n	\n\n\n											\n\n	\n	\n		\n			Jun		\n		\n			11		\n	\n\n\n	\n		\n			\n\n				\n					\n		\n		19:30 – 22:30	\n	\n					\n	\n		AYNSLEY LISTER LIVE IN FAVERSHAM	\n\n				\n\n				\n			\n		\n	\n\n\n											\n\n	\n	\n		\n			Jun		\n		\n			24		\n	\n\n\n	\n		\n			\n\n				\n					\n		\n		19:00 – 22:30	\n	\n					\n	\n		ALASTAIR GREENE LIVE AT THE OLD BREWERY STORE\, FAVERSHAM	\n\n				\n\n				\n			\n		\n	\n\n\n									\n\n				\n	\n		View Calendar
URL:https://rockinrootsevents.co.uk/event/preacher-stone-live-in-faversham/
LOCATION:THE OLD BREWERY STORE\, MILL PLACE\, FAVERSHAM\, KENT\, ME13 7DY\, United Kingdom
CATEGORIES:FAVERSHAM,THE OLD BREWERY STORE
ATTACH;FMTTYPE=image/jpeg:https://rockinrootsevents.co.uk/wp-content/uploads/2025/08/PREACHER-STONE-A4-scaled.jpg
END:VEVENT
END:VCALENDAR