BEGIN:VCALENDAR
VERSION:2.0
PRODID:-//ROCKIN&#039; ROOTS EVENTS - ECPv6.15.20//NONSGML v1.0//EN
CALSCALE:GREGORIAN
METHOD:PUBLISH
X-WR-CALNAME:ROCKIN&#039; ROOTS EVENTS
X-ORIGINAL-URL:https://rockinrootsevents.co.uk
X-WR-CALDESC:Events for ROCKIN&#039; ROOTS EVENTS
REFRESH-INTERVAL;VALUE=DURATION:PT1H
X-Robots-Tag:noindex
X-PUBLISHED-TTL:PT1H
BEGIN:VTIMEZONE
TZID:Europe/Paris
BEGIN:DAYLIGHT
TZOFFSETFROM:+0100
TZOFFSETTO:+0200
TZNAME:CEST
DTSTART:20250330T010000
END:DAYLIGHT
BEGIN:STANDARD
TZOFFSETFROM:+0200
TZOFFSETTO:+0100
TZNAME:CET
DTSTART:20251026T010000
END:STANDARD
BEGIN:DAYLIGHT
TZOFFSETFROM:+0100
TZOFFSETTO:+0200
TZNAME:CEST
DTSTART:20260329T010000
END:DAYLIGHT
BEGIN:STANDARD
TZOFFSETFROM:+0200
TZOFFSETTO:+0100
TZNAME:CET
DTSTART:20261025T010000
END:STANDARD
BEGIN:DAYLIGHT
TZOFFSETFROM:+0100
TZOFFSETTO:+0200
TZNAME:CEST
DTSTART:20270328T010000
END:DAYLIGHT
BEGIN:STANDARD
TZOFFSETFROM:+0200
TZOFFSETTO:+0100
TZNAME:CET
DTSTART:20271031T010000
END:STANDARD
END:VTIMEZONE
BEGIN:VEVENT
DTSTART;TZID=Europe/Paris:20260611T193000
DTEND;TZID=Europe/Paris:20260611T223000
DTSTAMP:20260425T121656
CREATED:20260109T145312Z
LAST-MODIFIED:20260406T165609Z
UID:1399-1781206200-1781217000@rockinrootsevents.co.uk
SUMMARY:AYNSLEY LISTER LIVE IN FAVERSHAM
DESCRIPTION:PURCHASE TICKETS\n\n\n\n\nAbout the Band\n\n\n\nRockin’ Roots Events Presents: Aynsley Lister Band \n\n\n\nAward-winning British Blues-Rock Powerhouse Live in Faversham \n\n\n\nAn explosive night of world-class blues-rock as Rockin’ Roots Events brings the Aynsley Lister Band to The Old Brewery Store on Thursday\, 11th June 2026. \n\n\n\nRegarded as one of the UK’s hottest contemporary guitarists\, Aynsley Lister has spent over two decades at the top of the blues scene. Known for his high-energy playing and soulful songwriting\, his music bridges the gap between traditional blues and modern rock\, drawing comparisons to heavyweights like Gary Clark Jr. and Joe Bonamassa. With over 100\,000 albums sold and a reputation for mesmerizing live performances\, this is a show that guitar fans simply cannot miss. \n\n\n\nExpect a setlist packed with anthemic tracks from his acclaimed studio albums and fresh cuts that showcase why he remains a leading light in British blues. \n\n\n\nThe Venue The Old Brewery Store in Faversham provides the perfect atmospheric backdrop for this event. With its unique brewery heritage and excellent acoustics\, it offers an intimate yet powerful concert experience. \n\n\n\nEvent Details: \n\n\n\nDoors: 7:00 PM   \n\n\n\nDate: Thursday\, 11th June 2026 \n\n\n\nVenue: The Old Brewery Store\, Shepherd Neame\, Faversham \n\n\n\n\n  \n\n\n\n\n\n  \n\n\n\n\n\nhttps://youtu.be/OcMeWcqfyOs?si=unrRnWz2BGB-dU7b\n\n\n\n\n\nhttps://youtu.be/AcJ41AzVwTg?si=PHsme6tu1U8LUr1M\n\n\n\n\n\nhttps://youtu.be/STIf3hWz5yk?si=fWKnEcaIAJrnPpWY\n\n\n\n\n\n\n\n\n\n\n6TH JUNE 2026 \n\n\n\nDOORS 7PM \n\n\n\n  \n\n\n\nTHE OLD BREWERY STORE \n\n\n\nFAVERSHAM \n\n\n\n  \n\n\n\n\n\n\nhttps://open.spotify.com/artist/7hueZY91Csxv57p4KnPVcU?si=L9pJzEI3Q6eSvXJLVaq2Yw\n\n\n\n\n\n\n  \n\n\n\n\n\n\n\n	\n		\n\n			\n			\n\n							\n					\n						Upcoming Events					\n				\n			\n			\n				\n											\n\n	\n	\n		\n			Apr		\n		\n			30		\n	\n\n\n	\n		\n			\n\n				\n					\n		\n		19:00 – 22:30	\n	\n					\n	\n		DANNY BRYANT LIVE IN FAVERSHAM	\n\n				\n\n				\n			\n		\n	\n\n\n											\n\n	\n	\n		\n			May		\n		\n			30		\n	\n\n\n	\n		\n			\n\n				\n					\n		\n		19:30 – 22:30	\n	\n					\n	\n		STRAY LIVE AT THE OLD BREWERY STORE	\n\n				\n\n				\n			\n		\n	\n\n\n											\n\n	\n	\n		\n			Jun		\n		\n			3		\n	\n\n\n	\n		\n			\n\n				\n					\n		\n		19:00 – 22:30	\n	\n					\n	\n		JIMMY CARPENTER LIVE AT THE OLD BREWERY STORE FAVERSHAM	\n\n				\n\n				\n			\n		\n	\n\n\n											\n\n	\n	\n		\n			Jun		\n		\n			11		\n	\n\n\n	\n		\n			\n\n				\n					\n		\n		19:30 – 22:30	\n	\n					\n	\n		AYNSLEY LISTER LIVE IN FAVERSHAM	\n\n				\n\n				\n			\n		\n	\n\n\n											\n\n	\n	\n		\n			Jun		\n		\n			24		\n	\n\n\n	\n		\n			\n\n				\n					\n		\n		19:00 – 22:30	\n	\n					\n	\n		ALASTAIR GREENE LIVE AT THE OLD BREWERY STORE\, FAVERSHAM	\n\n				\n\n				\n			\n		\n	\n\n\n									\n\n				\n	\n		View Calendar
URL:https://rockinrootsevents.co.uk/event/aynsley-lister-live-in-faversham/
LOCATION:THE OLD BREWERY STORE\, MILL PLACE\, FAVERSHAM\, KENT\, ME13 7DY\, United Kingdom
CATEGORIES:BLUES,BLUES ROCK,KENT,KENT LIVE MUSIC,LIVE MUSIC,THE OLD BREWERY STORE
ATTACH;FMTTYPE=image/jpeg:https://rockinrootsevents.co.uk/wp-content/uploads/2026/01/A5-of-AYNSLEY-LISTER-26-A5.jpg
END:VEVENT
END:VCALENDAR